BEGIN:VCALENDAR
VERSION:2.0
PRODID:-//ChamberMaster//Event Calendar 2.0//EN
METHOD:PUBLISH
X-PUBLISHED-TTL:P3D
REFRESH-INTERVAL:P3D
CALSCALE:GREGORIAN
BEGIN:VEVENT
DTSTART;VALUE=DATE:20181103
DTEND;VALUE=DATE:20181104
TRANSP:TRANSPARENT
X-MICROSOFT-CDO-ALLDAYEVENT:TRUE
SUMMARY:Click! 2018 Photography Conference
DESCRIPTION:Cape Cod Art Center presents: CLICK! 2018 Photography Conference. SAVE THE DATE! Saturday\, November 3rd\, 2018. More info coming soon!
X-ALT-DESC;FMTTYPE=text/html:Cape Cod Art Center presents: CLICK! 2018 Photography Conference. SAVE THE DATE! Saturday\, November 3rd\, 2018. More info coming soon!&nbsp\;
LOCATION:
UID:e.3261.16
SEQUENCE:3
DTSTAMP:20260424T160619Z
URL:https://business.hyannis.com/events/details/click-2018-photography-conference-16
END:VEVENT

END:VCALENDAR
