BEGIN:VCALENDAR
VERSION:2.0
PRODID:-//ChamberMaster//Event Calendar 2.0//EN
METHOD:PUBLISH
X-PUBLISHED-TTL:P3D
REFRESH-INTERVAL:P3D
CALSCALE:GREGORIAN
BEGIN:VEVENT
DTSTART:20250424T220000Z
DTEND:20250424T230000Z
X-MICROSOFT-CDO-ALLDAYEVENT:FALSE
SUMMARY:Climate Challenges on the Cape & Islands
DESCRIPTION:Join meteorologist and climate scientist Chris Gloninger in the Alliance's ACONS (A Celebration of Nantucket Sound) webinar presentation exploring how climate change is reshaping Cape Cod - from rising sea levels to intensifying storms and shifting ecosystems. It will break down the latest science\, highlight local impacts\, and discuss actionable solutions to enhance resilience and protect the region's communities and natural resources.\n\nChris has extensive experience in the field of meteorology and climate science. His passion for meteorology was sparked by Hurricane Bob\, leading him to a career spanning 18 years as a broadcast meteorologist in markets across the U.S.\, where he covered everything from hurricanes to Nor'easters. He launched the nation's first weekly climate change series\, earning multiple EMMYs and industry awards. With the help of respected industry experts\, community advocates\, and politicians\, the series explained the science of climate mitigation and adaptation\, provided examples of how climate change is affecting people at the local level\, and showcased some of the advancements being made in clean and renewable energy. Now a Senior Scientist at Woods Hole Group\, Chris applies his expertise in climate and risk communication\, helping communities understand and prepare for the impacts of a changing climate.\n\n \n\nA live Q&A with Christopher and Alliance president Audra Parker will follow the presentation.\n\n \n\nTo view past webinars\, and for more information on our ACONS webinar series\, visit us at www.saveoursound.org/acons.
X-ALT-DESC;FMTTYPE=text/html:<div>Join meteorologist and climate scientist <strong>Chris Gloninger</strong> in the Alliance&#39\;s&nbsp\;<strong>ACONS </strong>(<em>A Celebration of Nantucket Sound</em>) webinar presentation exploring how climate change is reshaping Cape Cod - from rising sea levels to intensifying storms and shifting ecosystems. It will break down the latest science\, highlight local impacts\, and discuss actionable solutions to enhance resilience and protect the region&rsquo\;s communities and natural resources.</div>\n\n<div>Chris has extensive experience in the field of meteorology and climate science. His passion for meteorology was sparked by Hurricane Bob\, leading him to a career spanning 18 years as a broadcast meteorologist in markets across the U.S.\, where he covered everything from hurricanes to Nor&rsquo\;easters. He launched the nation&#39\;s first weekly climate change series\, earning multiple EMMYs and industry awards. With the help of respected industry experts\, community advocates\, and politicians\, the series explained the science of climate mitigation and adaptation\, provided examples of how climate change is affecting people at the local level\, and showcased some of the advancements being made in clean and renewable energy. Now a Senior Scientist at <strong>Woods Hole Group</strong>\, Chris applies his expertise in climate and risk communication\, helping communities understand and prepare for the impacts of a changing climate.<br />\n&nbsp\;</div>\n\n<div>A live Q&amp\;A with Christopher and Alliance president Audra Parker will follow the presentation.<br />\n&nbsp\;</div>\n\n<div>To view past webinars\, and for more information on our ACONS webinar series\, visit us at&nbsp\;<a class="x1i10hfl xjbqb8w x1ejq31n xd10rxx x1sy0etr x17r0tee x972fbf xcfux6l x1qhh985 xm0m39n x9f619 x1ypdohk xt0psk2 xe8uvvx xdj266r x11i5rnm xat24cr x1mh8g0r xexx8yu x4uap5 x18d9i69 xkhd6sd x16tdsg8 x1hl2dhg xggy1nq x1a2a7pz x1sur9pj xkrqix3 x1fey0fg x1s688f" href="http://www.saveoursound.org/acons?fbclid=IwZXh0bgNhZW0CMTAAAR0bJIFksfsAFU9tuMubumIEPj2nK-oW0d5ePDixp89-f-Ho4zqERepMecg_aem_PUcgo3IKqSBUGPygNDHPkA" rel="nofollow noreferrer" style="color: var(--blue-link)\; cursor: pointer\; text-decoration-line: none\; list-style: none\; margin: 0px\; text-align: inherit\; border-style: none\; padding: 0px\; box-sizing: border-box\; border-width: 0px\; outline: none\; -webkit-tap-highlight-color: transparent\; font-weight: 600\; touch-action: manipulation\; background-color: transparent\; display: inline\; font-family: inherit\;" tabindex="0" target="_blank">www.saveoursound.org/acons</a>.</div>\n
LOCATION:Virtual\; on Zoom
UID:e.3261.3219
SEQUENCE:3
DTSTAMP:20260421T131952Z
URL:https://business.hyannis.com/events/details/climate-challenges-on-the-cape-islands-3219
END:VEVENT

END:VCALENDAR
