BEGIN:VCALENDAR
VERSION:2.0
PRODID:-//ChamberMaster//Event Calendar 2.0//EN
METHOD:PUBLISH
X-PUBLISHED-TTL:P3D
REFRESH-INTERVAL:P3D
CALSCALE:GREGORIAN
BEGIN:VEVENT
DTSTART:20180809T213000Z
DTEND:20180809T213000Z
X-MICROSOFT-CDO-ALLDAYEVENT:FALSE
SUMMARY:Cocktail Tasting & Book Signing
DESCRIPTION:Enjoy at sip  of the Step by Step cocktail \, a featured cocktail from recently published 'Drinking Like Ladies\, 75 Modern Cocktails from the World's Leading Female Bartenders'. Written by two well known Bostonian mixologists Kirsten Amann & Misty Kalkofen this unique spin on a cocktail book is 'dedicated to preserving and honoring classic cocktails from pre-Prohibition and beyond\, while celebrating the oft-forgotten ladies who sipped them'.\n\n\nBooks will be available for purchase during the event.  Proceeds from book sales will be donated to Women United\, a brand affinity group of Cape & Islands United Way\, that  supports Strong from the Start.
X-ALT-DESC;FMTTYPE=text/html:<span style="color: rgb(34\, 34\, 34)\; font-family: arial\, sans-serif\; font-size: 12.8px\; background-color: rgb(255\, 255\, 255)\;">Enjoy at sip&nbsp\; of the Step by Step cocktail \, a featured cocktail from recently published &#39\;Drinking Like Ladies\, 75 Modern Cocktails from the World&#39\;s Leading Female Bartenders&#39\;. Written by two well known Bostonian mixologists Kirsten Amann &amp\; Misty Kalkofen this unique spin on a cocktail book is &#39\;dedicated to preserving and honoring classic cocktails from pre-Prohibition and beyond\, while celebrating the oft-forgotten ladies who sipped them&#39\;.</span>\n<div><br style="color: rgb(34\, 34\, 34)\; font-family: arial\, sans-serif\; font-size: 12.8px\; background-color: rgb(255\, 255\, 255)\;" />\n<span style="color: rgb(34\, 34\, 34)\; font-family: arial\, sans-serif\; font-size: 12.8px\; background-color: rgb(255\, 255\, 255)\;">Books will be available for purchase during the event.&nbsp\; Proceeds from book sales will be donated to Women United\, a brand affinity group of Cape &amp\; Islands United Way\, that&nbsp\; supports Strong from the Start.</span></div>\n
LOCATION:Cape Cod Package Store Fine Wine & Spirits 1495 Falmouth Road Centerville\, MA
UID:e.3261.39
SEQUENCE:3
DTSTAMP:20260424T192642Z
URL:https://business.hyannis.com/events/details/cocktail-tasting-book-signing-39
END:VEVENT

END:VCALENDAR
