BEGIN:VCALENDAR
VERSION:2.0
PRODID:-//ChamberMaster//Event Calendar 2.0//EN
METHOD:PUBLISH
X-PUBLISHED-TTL:P3D
REFRESH-INTERVAL:P3D
CALSCALE:GREGORIAN
BEGIN:VEVENT
DTSTART:20180908T000000Z
DTEND:20180908T020000Z
X-MICROSOFT-CDO-ALLDAYEVENT:FALSE
SUMMARY:Comedy Superstar Jeff Dunham Headlines the Cape Cod Melody Tent
DESCRIPTION:Record-breaking global Comedy Superstar Jeff Dunham\, is bringing his cast of characters on the road\, as America's favorite ventriloquist tours North America on his 60-city Passively Aggressive tour through spring 2018. Tickets on sale now at jeffdunham.com. Dunham recently released his latest stand-up special\, Jeff Dunham: Relative Disaster\, on Netflix in September 2017. The special\, filmed in Dublin Ireland\, features Dunham along with his ill-behaved and slightly demented posse of characters for a gleeful skewering of family and politics. Dunham and his famous cohorts Walter\, Achmed the Dead Terrorist\, Bubba J\, and Peanut also consider what a new member to their already dysfunctional family could mean\, putting the 'relative' in Relative Disaster. Dunham\, a Guinness World Record holder for "Most Tickets Sold for a Stand-up Comedy Tour\," has built an entertainment empire over years of non-stop touring and innovation. With over a million YouTube subscribers amassing over a billion views\, he has carved out his own unique space in the comedy world\, leading to record-breaking viewership with his comedy specials on Comedy Central and NBC. His 2015 stand-up special\, Jeff Dunham: Unhinged in Hollywood\, debuted on NBC Primetime and ranked as the time period's top non-sports program on the Big 4 in every key measure. And finally\, adding to an amazing list of recent accomplishments\, Dunham's contribution to the world of show business and comedy was recognized when he received a star on the Hollywood Walk of Fame\, commemorating over two decades of superstardom. Said Dunham recently\, "When I moved to Los Angeles in 1988 with a car full of clothes and a couple of dummies\, never in my wildest dreams did I imagine that one day I would be tripping over my own star on the Walk of Fame. It's truly fantastic and a great honor\; I just hope it's not in front of an adult store. Okay\, actually\, that would be hilarious."
X-ALT-DESC;FMTTYPE=text/html:Record-breaking global Comedy Superstar Jeff Dunham\, is bringing his cast of characters on the road\, as America&rsquo\;s favorite ventriloquist tours North America on his 60-city Passively Aggressive tour through spring 2018. Tickets on sale now at jeffdunham.com. Dunham recently released his latest stand-up special\, Jeff Dunham: Relative Disaster\, on Netflix in September 2017. The special\, filmed in Dublin Ireland\, features Dunham along with his ill-behaved and slightly demented posse of characters for a gleeful skewering of family and politics. Dunham and his famous cohorts Walter\, Achmed the Dead Terrorist\, Bubba J\, and Peanut also consider what a new member to their already dysfunctional family could mean\, putting the &lsquo\;relative&rsquo\; in Relative Disaster. Dunham\, a Guinness World Record holder for &ldquo\;Most Tickets Sold for a Stand-up Comedy Tour\,&rdquo\; has built an entertainment empire over years of non-stop touring and innovation. With over a million YouTube subscribers amassing over a billion views\, he has carved out his own unique space in the comedy world\, leading to record-breaking viewership with his comedy specials on Comedy Central and NBC. His 2015 stand-up special\, Jeff Dunham: Unhinged in Hollywood\, debuted on NBC Primetime and ranked as the time period&rsquo\;s top non-sports program on the Big 4 in every key measure. And finally\, adding to an amazing list of recent accomplishments\, Dunham&rsquo\;s contribution to the world of show business and comedy was recognized when he received a star on the Hollywood Walk of Fame\, commemorating over two decades of superstardom. Said Dunham recently\, &ldquo\;When I moved to Los Angeles in 1988 with a car full of clothes and a couple of dummies\, never in my wildest dreams did I imagine that one day I would be tripping over my own star on the Walk of Fame. It&rsquo\;s truly fantastic and a great honor\; I just hope it&rsquo\;s not in front of an adult store. Okay\, actually\, that would be hilarious.&rdquo\;
LOCATION:The Cape Cod Melody Tent is located at 21 W. Main St. Hyannis\, MA 02601
UID:e.3261.43
SEQUENCE:3
DTSTAMP:20260424T174259Z
URL:https://business.hyannis.com/events/details/comedy-superstar-jeff-dunham-headlines-the-cape-cod-melody-tent-43
END:VEVENT

END:VCALENDAR
