BEGIN:VCALENDAR
VERSION:2.0
PRODID:-//ChamberMaster//Event Calendar 2.0//EN
METHOD:PUBLISH
X-PUBLISHED-TTL:P3D
REFRESH-INTERVAL:P3D
CALSCALE:GREGORIAN
BEGIN:VEVENT
DTSTART:20180914T233000Z
DTEND:20180915T020000Z
X-MICROSOFT-CDO-ALLDAYEVENT:FALSE
SUMMARY:Concert For Recovery Feat. Daphne Willis
DESCRIPTION:In honor of National Recovery Month\, Addiction Campuses is hosting "Concert For Recovery" with C4 Recovery Foundation at this year's Cape Cod Symposium on Addictive Disorders (CCSAD) on Friday\, September 14. This event\, featuring Sony recording artist Daphne Willis and Mark Schwaber\, is free and open to the public. We ask that you let us know you're coming by registering at www.ccsad.com/concert
X-ALT-DESC;FMTTYPE=text/html:In honor of National Recovery Month\, Addiction Campuses is hosting &quot\;Concert For Recovery&quot\; with C4 Recovery Foundation at this year&#39\;s Cape Cod Symposium on Addictive Disorders (CCSAD) on Friday\, September 14. This event\, featuring Sony recording artist Daphne Willis and Mark Schwaber\, is free and open to the public. We ask that you let us know you&#39\;re coming by registering at www.ccsad.com/concert
LOCATION:Hyannis Resort and Conference Center
UID:e.3261.42
SEQUENCE:3
DTSTAMP:20260424T174317Z
URL:https://business.hyannis.com/events/details/concert-for-recovery-feat-daphne-willis-42
END:VEVENT

END:VCALENDAR
