BEGIN:VCALENDAR
VERSION:2.0
PRODID:-//ChamberMaster//Event Calendar 2.0//EN
METHOD:PUBLISH
X-PUBLISHED-TTL:P3D
REFRESH-INTERVAL:P3D
CALSCALE:GREGORIAN
BEGIN:VEVENT
DTSTART:20180908T150000Z
DTEND:20180908T200000Z
X-MICROSOFT-CDO-ALLDAYEVENT:FALSE
SUMMARY:Craft Beer Cask Fest
DESCRIPTION:It's a Cask Beer Fest! We're celebrating old fashioned\, real ale with some friends! Sample cask beers from all the different breweries\, live music by High Attitude & visit the Dawg in the Road food truck! Each brewery will bring at least one type of cask beer. $20 gets you a souvenir glass and 10 sample tickets. Additional pints of cask beer will also be on sale from each brewery. Join 6A Brewing\, Bog Iron Brewing\, Bone Up Brewing\, Black Hat Brew Works\, Cape Cod Beer\, Harper Lane Brewery\, Mayflower Brewing Company\, & Plymouth Beer Co.\, Stellwagen Brewing Company & an ever expanding line up of breweries for this celebration of Real Ale! Sampling at this event is 21+ only. Valid ID required. Co-sponsored by Mass Brew Bros.
X-ALT-DESC;FMTTYPE=text/html:It&rsquo\;s a Cask Beer Fest! We&rsquo\;re celebrating old fashioned\, real ale with some friends! Sample cask beers from all the different breweries\, live music by High Attitude &amp\; visit the Dawg in the Road food truck! Each brewery will bring at least one type of cask beer. $20 gets you a souvenir glass and 10 sample tickets. Additional pints of cask beer will also be on sale from each brewery. Join 6A Brewing\, Bog Iron Brewing\, Bone Up Brewing\, Black Hat Brew Works\, Cape Cod Beer\, Harper Lane Brewery\, Mayflower Brewing Company\, &amp\; Plymouth Beer Co.\, Stellwagen Brewing Company &amp\; an ever expanding line up of breweries for this celebration of Real Ale! Sampling at this event is 21+ only. Valid ID required. Co-sponsored by Mass Brew Bros.
LOCATION:Cape Cod Beer 1336 Phinney's Lane Hyannis\, MA 02601
UID:e.3261.47
SEQUENCE:3
DTSTAMP:20260424T174030Z
URL:https://business.hyannis.com/events/details/craft-beer-cask-fest-47
END:VEVENT

END:VCALENDAR
