BEGIN:VCALENDAR
VERSION:2.0
PRODID:-//ChamberMaster//Event Calendar 2.0//EN
METHOD:PUBLISH
X-PUBLISHED-TTL:P3D
REFRESH-INTERVAL:P3D
CALSCALE:GREGORIAN
BEGIN:VEVENT
DTSTART:20181107T000000Z
DTEND:20181107T020000Z
X-MICROSOFT-CDO-ALLDAYEVENT:FALSE
SUMMARY:Crafts & Drafts: Holiday Blocks Paint Party
DESCRIPTION:Create your own personalized holiday masterpiece! Includes:   Blocks   Paint and Stencil Non refundable Deposit & Reservations required. $20 balance will be due night of party\, cash is appreciated but credit card is accepted.
X-ALT-DESC;FMTTYPE=text/html:Create your own personalized holiday masterpiece! Includes: &bull\; Blocks &bull\; Paint and Stencil Non refundable Deposit &amp\; Reservations required. $20 balance will be due night of party\, cash is appreciated but credit card is accepted.
LOCATION:Cape Cod Beer 1336 Phinney's Lane Hyannis\, MA 02601
UID:e.3261.92
SEQUENCE:3
DTSTAMP:20260424T143637Z
URL:https://business.hyannis.com/events/details/crafts-drafts-holiday-blocks-paint-party-92
END:VEVENT

END:VCALENDAR
