BEGIN:VCALENDAR
VERSION:2.0
PRODID:-//ChamberMaster//Event Calendar 2.0//EN
METHOD:PUBLISH
X-PUBLISHED-TTL:P3D
REFRESH-INTERVAL:P3D
CALSCALE:GREGORIAN
BEGIN:VEVENT
DTSTART:20181205T000000Z
DTEND:20181205T020000Z
X-MICROSOFT-CDO-ALLDAYEVENT:FALSE
SUMMARY:Crafts & Drafts: Holiday Tree Paint Party
DESCRIPTION:Holiday Tree Paint Party with KC Originals! Topper\, bow & white lights included. Choose your phrase or add a custom one! At the end of the event\, you'll take home a masterpiece created by you. All supplies will be provided. Cash bar. Non refundable deposit & reservations required. $20 deposit\, $20 remaining balance due night of the party.
X-ALT-DESC;FMTTYPE=text/html:Holiday Tree Paint Party with KC Originals! Topper\, bow &amp\; white lights included. Choose your phrase or add a custom one! At the end of the event\, you&rsquo\;ll take home a masterpiece created by you. All supplies will be provided. Cash bar. Non refundable deposit &amp\; reservations required. $20 deposit\, $20 remaining balance due night of the party.
LOCATION:Cape Cod Beer 1336 Phinney's Lane Hyannis\, MA 02601
UID:e.3261.118
SEQUENCE:3
DTSTAMP:20260424T132202Z
URL:https://business.hyannis.com/events/details/crafts-drafts-holiday-tree-paint-party-118
END:VEVENT

END:VCALENDAR
