BEGIN:VCALENDAR
VERSION:2.0
PRODID:-//ChamberMaster//Event Calendar 2.0//EN
METHOD:PUBLISH
X-PUBLISHED-TTL:P3D
REFRESH-INTERVAL:P3D
CALSCALE:GREGORIAN
BEGIN:VEVENT
DTSTART:20190226T233000Z
DTEND:20190227T020000Z
X-MICROSOFT-CDO-ALLDAYEVENT:FALSE
SUMMARY:Crafts & Drafts Paint Party
DESCRIPTION:This is not your average paint night! Every month we make fun\, new paint projects with KC Originals. This month we're making a set of over sized Scrabble blocks personalized with your own design. Reservations required This Project Includes:   Four 5" Square Wood Tiles   Tile Holder   Paint & Stencil Visit CapeCodBeer.com for more information.
X-ALT-DESC;FMTTYPE=text/html:This is not your average paint night! Every month we make fun\, new paint projects with KC Originals. This month we&#39\;re making a set of over sized Scrabble blocks personalized with your own design. Reservations required This Project Includes: &bull\; Four 5&rdquo\; Square Wood Tiles &bull\; Tile Holder &bull\; Paint &amp\; Stencil Visit CapeCodBeer.com for more information.
LOCATION:Cape Cod Beer 1336 Phinney's Lane Hyannis\, MA 02601
UID:e.3261.191
SEQUENCE:3
DTSTAMP:20260424T113639Z
URL:https://business.hyannis.com/events/details/crafts-drafts-paint-party-191
END:VEVENT

END:VCALENDAR
