BEGIN:VCALENDAR
VERSION:2.0
PRODID:-//ChamberMaster//Event Calendar 2.0//EN
METHOD:PUBLISH
X-PUBLISHED-TTL:P3D
REFRESH-INTERVAL:P3D
CALSCALE:GREGORIAN
BEGIN:VEVENT
DTSTART:20180623T180000Z
DTEND:20180623T210000Z
X-MICROSOFT-CDO-ALLDAYEVENT:FALSE
SUMMARY:Crazy Mermaids Grand Opening
DESCRIPTION:Crazy Mermaids Grand Opening with Wine & Cheese\, Live Music and Ribbon Cutting ceremony. Come stop by and enjoy all the wonderful art and crafts and live music from Third Generation.
X-ALT-DESC;FMTTYPE=text/html:Crazy Mermaids Grand Opening with Wine &amp\; Cheese\, Live Music and Ribbon Cutting ceremony. Come stop by and enjoy all the wonderful art and crafts and live music from Third Generation.
LOCATION:Crazy Mermaids Giftshop & Gallery 628 main Street Hyannis
UID:e.3261.27
SEQUENCE:3
DTSTAMP:20260424T223547Z
URL:https://business.hyannis.com/events/details/crazy-mermaids-grand-opening-27
END:VEVENT

END:VCALENDAR
