BEGIN:VCALENDAR
VERSION:2.0
PRODID:-//ChamberMaster//Event Calendar 2.0//EN
METHOD:PUBLISH
X-PUBLISHED-TTL:P3D
REFRESH-INTERVAL:P3D
CALSCALE:GREGORIAN
BEGIN:VEVENT
DTSTART;VALUE=DATE:20180901
DTEND;VALUE=DATE:20180917
TRANSP:TRANSPARENT
X-MICROSOFT-CDO-ALLDAYEVENT:TRUE
SUMMARY:Crazy Mermaids Red Tag Sale
DESCRIPTION:Grab your chance to buy a local piece of art or craft at discounted prices. Crazy Mermaids is having a 10% to 30% off Red Tag sale. Any item marked with a red tag will be discounted by the amount on the tag.
X-ALT-DESC;FMTTYPE=text/html:Grab your chance to buy a local piece of art or craft at discounted prices. Crazy Mermaids is having a 10% to 30% off Red Tag sale. Any item marked with a red tag will be discounted by the amount on the tag.
LOCATION:628 Main Street Hyannis
UID:e.3261.63
SEQUENCE:3
DTSTAMP:20260424T174214Z
URL:https://business.hyannis.com/events/details/crazy-mermaids-red-tag-sale-63
END:VEVENT

END:VCALENDAR
