BEGIN:VCALENDAR
VERSION:2.0
PRODID:-//ChamberMaster//Event Calendar 2.0//EN
METHOD:PUBLISH
X-PUBLISHED-TTL:P3D
REFRESH-INTERVAL:P3D
CALSCALE:GREGORIAN
BEGIN:VEVENT
DTSTART:20181011T220000Z
DTEND:20181011T230000Z
X-MICROSOFT-CDO-ALLDAYEVENT:FALSE
SUMMARY:Create U with Maria Jones/Info Session
DESCRIPTION:Creative Ways to Reignite Your Original Spirit\, with Maria Jones\, Life Coach In this eight-week series\, you will: Take time for yourself Become re-acquainted with your inner creator Recognize and stop the thoughts and habits that keep you stuck Laugh\, support\, and share with an amazing tribe of women Try some fun techniques to delight your soul Be inspired to reignite your original spirit What would your life look like if you remove the blocks that prevent you from living joyfully\, unapologetically\, and out loud? Let's find out! Info Session: October 11\, 6-7 PM Eight Week Workshop: Thursdays\, 10/18/18   12/13/18 from 6:00   8:00 PM Attend Info Session to register for the 8-week series. To register for the Info Session\, email: dawn@wecancenter.org or call 508-430-8111.
X-ALT-DESC;FMTTYPE=text/html:Creative Ways to Reignite Your Original Spirit\, with Maria Jones\, Life Coach In this eight-week series\, you will: Take time for yourself Become re-acquainted with your inner creator Recognize and stop the thoughts and habits that keep you stuck Laugh\, support\, and share with an amazing tribe of women Try some fun techniques to delight your soul Be inspired to reignite your original spirit What would your life look like if you remove the blocks that prevent you from living joyfully\, unapologetically\, and out loud? Let&rsquo\;s find out! Info Session: October 11\, 6-7 PM Eight Week Workshop: Thursdays\, 10/18/18 &ndash\; 12/13/18 from 6:00 &ndash\; 8:00 PM Attend Info Session to register for the 8-week series. To register for the Info Session\, email: dawn@wecancenter.org or call 508-430-8111.
LOCATION:Cape Cod & Islands Association of Realtors\, 22 Mid-tech Drive\, W Yarmouth
UID:e.3261.96
SEQUENCE:3
DTSTAMP:20260424T160620Z
URL:https://business.hyannis.com/events/details/create-u-with-maria-jones-info-session-96
END:VEVENT

END:VCALENDAR
