BEGIN:VCALENDAR
VERSION:2.0
PRODID:-//ChamberMaster//Event Calendar 2.0//EN
METHOD:PUBLISH
X-PUBLISHED-TTL:P3D
REFRESH-INTERVAL:P3D
CALSCALE:GREGORIAN
BEGIN:VEVENT
DTSTART:20250920T040000Z
DTEND:20250920T040000Z
X-MICROSOFT-CDO-ALLDAYEVENT:FALSE
SUMMARY:Customer Appreciation Day
DESCRIPTION:he Party starts Here! \n\n\n\nWe are planning a fun-filled afternoon to show our Appreciation for our amazing Customers! Join us and enjoy Tastings\, Food\, Games\, & awesome Giveaways!\n\n\n\nTASTINGS: Sip\n\n~ Surfside Iced Tea & Vodka\n\n~ Peroni Italian Beer\n\n~ Blue Moon Belgian Beer\n\n~ Shipyard \n\n\n\n~ PLUS more Wine & Spirit Tastings to follow - stay tuned!\n\n\n\nACTIVITES: Bring your A-game and compete with friends!\n\n~ Cornhole\n\n~ Kan Jam\n\n~ Golf Putting Green\n\n\n\nRAFFLES + Giveaways\n\n~ Premium Grill\n\n~ Leinenkugel Cornhole\n\n~ Blue Moon Retro Cooler\n\n\n\nFOOD\n\n~ Pizza by Pizza Wave\n\n- The Family Table Collaborative\n\n- Curb Cafe\n\n\n\nThis is a FREE EVENT.\n\nNo registration required.\n\nMust be 21+ with valid ID to participate in Tastings.\n\n\n\nRSVP Online to receive an extra entry into the Raffles!
X-ALT-DESC;FMTTYPE=text/html:<span style="color:rgb(29\, 16\, 44)\; font-family:museo sans w01\,helvetica neue\,helvetica\,helvetica\,arial\,sans-serif\; font-size:14px">he Party starts Here! </span><br />\n<br />\n<span style="color:rgb(29\, 16\, 44)\; font-family:museo sans w01\,helvetica neue\,helvetica\,helvetica\,arial\,sans-serif\; font-size:14px">We are planning a fun-filled afternoon to show our Appreciation for our amazing Customers! Join us and enjoy Tastings\, Food\, Games\, &amp\; awesome Giveaways!</span><br />\n<br />\n<span style="color:rgb(29\, 16\, 44)\; font-family:museo sans w01\,helvetica neue\,helvetica\,helvetica\,arial\,sans-serif\; font-size:14px">TASTINGS: Sip</span><br />\n<span style="color:rgb(29\, 16\, 44)\; font-family:museo sans w01\,helvetica neue\,helvetica\,helvetica\,arial\,sans-serif\; font-size:14px">~ Surfside Iced Tea &amp\; Vodka</span><br />\n<span style="color:rgb(29\, 16\, 44)\; font-family:museo sans w01\,helvetica neue\,helvetica\,helvetica\,arial\,sans-serif\; font-size:14px">~ Peroni Italian Beer</span><br />\n<span style="color:rgb(29\, 16\, 44)\; font-family:museo sans w01\,helvetica neue\,helvetica\,helvetica\,arial\,sans-serif\; font-size:14px">~ Blue Moon Belgian Beer</span><br />\n<span style="color:rgb(29\, 16\, 44)\; font-family:museo sans w01\,helvetica neue\,helvetica\,helvetica\,arial\,sans-serif\; font-size:14px">~ Shipyard </span><br />\n<br />\n<span style="color:rgb(29\, 16\, 44)\; font-family:museo sans w01\,helvetica neue\,helvetica\,helvetica\,arial\,sans-serif\; font-size:14px">~ PLUS more Wine &amp\; Spirit Tastings to follow - stay tuned!</span><br />\n<br />\n<span style="color:rgb(29\, 16\, 44)\; font-family:museo sans w01\,helvetica neue\,helvetica\,helvetica\,arial\,sans-serif\; font-size:14px">ACTIVITES: Bring your A-game and compete with friends!</span><br />\n<span style="color:rgb(29\, 16\, 44)\; font-family:museo sans w01\,helvetica neue\,helvetica\,helvetica\,arial\,sans-serif\; font-size:14px">~ Cornhole</span><br />\n<span style="color:rgb(29\, 16\, 44)\; font-family:museo sans w01\,helvetica neue\,helvetica\,helvetica\,arial\,sans-serif\; font-size:14px">~ Kan Jam</span><br />\n<span style="color:rgb(29\, 16\, 44)\; font-family:museo sans w01\,helvetica neue\,helvetica\,helvetica\,arial\,sans-serif\; font-size:14px">~ Golf Putting Green</span><br />\n<br />\n<span style="color:rgb(29\, 16\, 44)\; font-family:museo sans w01\,helvetica neue\,helvetica\,helvetica\,arial\,sans-serif\; font-size:14px">RAFFLES + Giveaways</span><br />\n<span style="color:rgb(29\, 16\, 44)\; font-family:museo sans w01\,helvetica neue\,helvetica\,helvetica\,arial\,sans-serif\; font-size:14px">~ Premium Grill</span><br />\n<span style="color:rgb(29\, 16\, 44)\; font-family:museo sans w01\,helvetica neue\,helvetica\,helvetica\,arial\,sans-serif\; font-size:14px">~ Leinenkugel Cornhole</span><br />\n<span style="color:rgb(29\, 16\, 44)\; font-family:museo sans w01\,helvetica neue\,helvetica\,helvetica\,arial\,sans-serif\; font-size:14px">~ Blue Moon Retro Cooler</span><br />\n<br />\n<span style="color:rgb(29\, 16\, 44)\; font-family:museo sans w01\,helvetica neue\,helvetica\,helvetica\,arial\,sans-serif\; font-size:14px">FOOD</span><br />\n<span style="color:rgb(29\, 16\, 44)\; font-family:museo sans w01\,helvetica neue\,helvetica\,helvetica\,arial\,sans-serif\; font-size:14px">~ Pizza by Pizza Wave</span><br />\n<span style="color:rgb(29\, 16\, 44)\; font-family:museo sans w01\,helvetica neue\,helvetica\,helvetica\,arial\,sans-serif\; font-size:14px">- The Family Table Collaborative</span><br />\n<span style="color:rgb(29\, 16\, 44)\; font-family:museo sans w01\,helvetica neue\,helvetica\,helvetica\,arial\,sans-serif\; font-size:14px">- Curb Cafe</span><br />\n<br />\n<span style="color:rgb(29\, 16\, 44)\; font-family:museo sans w01\,helvetica neue\,helvetica\,helvetica\,arial\,sans-serif\; font-size:14px">This is a FREE EVENT.</span><br />\n<span style="color:rgb(29\, 16\, 44)\; font-family:museo sans w01\,helvetica neue\,helvetica\,helvetica\,arial\,sans-serif\; font-size:14px">No registration required.</span><br />\n<span style="color:rgb(29\, 16\, 44)\; font-family:museo sans w01\,helvetica neue\,helvetica\,helvetica\,arial\,sans-serif\; font-size:14px">Must be 21+ with valid ID to participate in Tastings.</span><br />\n<br />\n<span style="color:rgb(29\, 16\, 44)\; font-family:museo sans w01\,helvetica neue\,helvetica\,helvetica\,arial\,sans-serif\; font-size:14px">RSVP Online to receive an extra entry into the Raffles!</span>
LOCATION:Cape Cod Package Store Fine Wine & Spirits
UID:e.3261.3765
SEQUENCE:3
DTSTAMP:20260421T213521Z
URL:https://business.hyannis.com/events/details/customer-appreciation-day-3765
END:VEVENT

END:VCALENDAR
