BEGIN:VCALENDAR
VERSION:2.0
PRODID:-//ChamberMaster//Event Calendar 2.0//EN
METHOD:PUBLISH
X-PUBLISHED-TTL:P3D
REFRESH-INTERVAL:P3D
CALSCALE:GREGORIAN
BEGIN:VEVENT
DTSTART:20181001T213000Z
DTEND:20181001T223000Z
X-MICROSOFT-CDO-ALLDAYEVENT:FALSE
SUMMARY:Cycle/Run Club
DESCRIPTION:Cape Cod Beer's summer weekly Cycle/Run Club is back! Go for a brief jog or ride & then come back to the brewery to have a pint with the whole group. We'll meet every Monday beginning May 7th through October 1st (no meeting 5/28 or 9/3). One beer per cyclist/runner provided courtesy of The Cooperative Bank of Cape Cod. Many thanks to Sports Event Management Company\, Hanlon Shoes and Sea Sports Cyclery & Outdoor for their help mapping routes & more!
X-ALT-DESC;FMTTYPE=text/html:Cape Cod Beer&#39\;s summer weekly Cycle/Run Club is back! Go for a brief jog or ride &amp\; then come back to the brewery to have a pint with the whole group. We&rsquo\;ll meet every Monday beginning May 7th through October 1st (no meeting 5/28 or 9/3). One beer per cyclist/runner provided courtesy of The Cooperative Bank of Cape Cod. Many thanks to Sports Event Management Company\, Hanlon Shoes and Sea Sports Cyclery &amp\; Outdoor for their help mapping routes &amp\; more!
LOCATION:Cape Cod Beer 1336 Phinney's Lane Hyannis\, MA 02601
UID:e.3261.58
SEQUENCE:3
DTSTAMP:20260424T161135Z
URL:https://business.hyannis.com/events/details/cycle-run-club-10-01-2018-58
END:VEVENT

END:VCALENDAR
