BEGIN:VCALENDAR
VERSION:2.0
PRODID:-//ChamberMaster//Event Calendar 2.0//EN
METHOD:PUBLISH
X-PUBLISHED-TTL:P3D
REFRESH-INTERVAL:P3D
CALSCALE:GREGORIAN
BEGIN:VEVENT
DTSTART:20181018T220000Z
DTEND:20181019T010000Z
X-MICROSOFT-CDO-ALLDAYEVENT:FALSE
SUMMARY:Debt & Student Loan Debt Relief
DESCRIPTION:Student Loan Debt Relief\, facilitated by Tim Schnelle. Good for students\, parents\, grandparents who are paying or managing student loans\, specifically government loans. Will review resources and strategies to balance and work with general debt and where possible\, debt forgiveness. Limited to 25. (No charge for workshop but there is an optional book available for $24 (discounted for WE CAN attendees from $29). For more information click here.
X-ALT-DESC;FMTTYPE=text/html:Student Loan Debt Relief\, facilitated by Tim Schnelle. Good for students\, parents\, grandparents who are paying or managing student loans\, specifically government loans. Will review resources and strategies to balance and work with general debt and where possible\, debt forgiveness. Limited to 25. (No charge for workshop but there is an optional book available for $24 (discounted for WE CAN attendees from $29). For more information click here.
LOCATION:CapeSpace\, 100 Independence Drive\, Hyannis
UID:e.3261.95
SEQUENCE:3
DTSTAMP:20260424T161136Z
URL:https://business.hyannis.com/events/details/debt-student-loan-debt-relief-95
END:VEVENT

END:VCALENDAR
