BEGIN:VCALENDAR
VERSION:2.0
PRODID:-//ChamberMaster//Event Calendar 2.0//EN
METHOD:PUBLISH
X-PUBLISHED-TTL:P3D
REFRESH-INTERVAL:P3D
CALSCALE:GREGORIAN
BEGIN:VEVENT
DTSTART:20190207T230000Z
DTEND:20190208T000000Z
X-MICROSOFT-CDO-ALLDAYEVENT:FALSE
SUMMARY:Eat (and Drink) your way to Healthy Skin
DESCRIPTION:Are you feeding your skin what it needs to be healthy and glowing? SBaba Skincare of Yarmouth Port will be hosting Susan Fernald\, An Integrative Nutrition Health Coach\, to provide tips on creating healthy skin from the inside out. Ms Fernald specializes in anti-inflammatory eating\, lowering sugar intake\, creating a healthy "gut" and stabilizing one's metabolism. Susan's website Cape Cod Wellbeing described her programs in more detail. Tickets are available online at SBabaSkincare.com/events. The proceeds from the $5 tickets go to Independence House. For more info email Sheryl@SBabaSkincare.com or call/text 508-776-2942.
X-ALT-DESC;FMTTYPE=text/html:Are you feeding your skin what it needs to be healthy and glowing? SBaba Skincare of Yarmouth Port will be hosting Susan Fernald\, An Integrative Nutrition Health Coach\, to provide tips on creating healthy skin from the inside out. Ms Fernald specializes in anti-inflammatory eating\, lowering sugar intake\, creating a healthy &ldquo\;gut&rdquo\; and stabilizing one&#39\;s metabolism. Susan&#39\;s website Cape Cod Wellbeing described her programs in more detail. Tickets are available online at SBabaSkincare.com/events. The proceeds from the $5 tickets go to Independence House. For more info email Sheryl@SBabaSkincare.com or call/text 508-776-2942.
LOCATION:SBaba Skincare\, 710 Main Street/Route 6A\,Yarmouth Port\, MA 02675
UID:e.3261.185
SEQUENCE:3
DTSTAMP:20260424T102531Z
URL:https://business.hyannis.com/events/details/eat-and-drink-your-way-to-healthy-skin-185
END:VEVENT

END:VCALENDAR
