BEGIN:VCALENDAR
VERSION:2.0
PRODID:-//ChamberMaster//Event Calendar 2.0//EN
METHOD:PUBLISH
X-PUBLISHED-TTL:P3D
REFRESH-INTERVAL:P3D
CALSCALE:GREGORIAN
BEGIN:VEVENT
DTSTART:20251009T223000Z
DTEND:20251010T000000Z
X-MICROSOFT-CDO-ALLDAYEVENT:FALSE
SUMMARY:Eco Printing with Riverview School's Friends Forever and Cape Cod CAN
DESCRIPTION:Discover the art of turning everyday items into something extraordinary! In this CapeCodCAN Art Sampler\, you'll explore Found Object Art using materials you might never expect to create unique\, one-of-a-kind pieces. It's a hands-on\, playful workshop where creativity shines and anything can become art. **This will be a Community-inclusive event.
X-ALT-DESC;FMTTYPE=text/html:Discover the art of turning everyday items into something extraordinary! In this CapeCodCAN Art Sampler\, you&rsquo\;ll explore Found Object Art&mdash\;using materials you might never expect to create unique\, one-of-a-kind pieces. It&rsquo\;s a hands-on\, playful workshop where creativity shines and anything can become art. **This will be a Community-inclusive event.
LOCATION:Friends Forever 255 Main St\, Hyannis\, MA 02601
UID:e.3261.3773
SEQUENCE:3
DTSTAMP:20260421T213833Z
URL:https://business.hyannis.com/events/details/eco-printing-with-riverview-school-s-friends-forever-and-cape-cod-can-3773
END:VEVENT

END:VCALENDAR
