BEGIN:VCALENDAR
VERSION:2.0
PRODID:-//ChamberMaster//Event Calendar 2.0//EN
METHOD:PUBLISH
X-PUBLISHED-TTL:P3D
REFRESH-INTERVAL:P3D
CALSCALE:GREGORIAN
BEGIN:VEVENT
DTSTART:20181212T223000Z
DTEND:20181213T013000Z
X-MICROSOFT-CDO-ALLDAYEVENT:FALSE
SUMMARY:EforAll Accelerator Final Presentation (Night 2)
DESCRIPTION:They attended a 12 week accelerator business program. Now they're competing for money to launch their ideas! Meet the entrepreneurs of the Fall 2018 EforAll Cape Cod Business Accelerator. Each one will be presenting a ten minute presentation about their business to a panel of expert judges and an audience of community members.
X-ALT-DESC;FMTTYPE=text/html:They attended a 12 week accelerator business program. Now they&#39\;re competing for money to launch their ideas! Meet the entrepreneurs of the Fall 2018 EforAll Cape Cod Business Accelerator. Each one will be presenting a ten minute presentation about their business to a panel of expert judges and an audience of community members.
LOCATION:Osterville Village Library 43 Wianno Avenue Osterville\, MA
UID:e.3261.148
SEQUENCE:3
DTSTAMP:20260424T130855Z
URL:https://business.hyannis.com/events/details/eforall-accelerator-final-presentation-night-2-148
END:VEVENT

END:VCALENDAR
