BEGIN:VCALENDAR
VERSION:2.0
PRODID:-//ChamberMaster//Event Calendar 2.0//EN
METHOD:PUBLISH
X-PUBLISHED-TTL:P3D
REFRESH-INTERVAL:P3D
CALSCALE:GREGORIAN
BEGIN:VEVENT
DTSTART;VALUE=DATE:20181201
DTEND;VALUE=DATE:20181202
TRANSP:TRANSPARENT
X-MICROSOFT-CDO-ALLDAYEVENT:TRUE
SUMMARY:Elegant Endings ~ Port & Sherry Tasting
DESCRIPTION:Diane Slater\, Wine Manager at CCPS & exhibiting Artist at Gallery Artrio\, will share her advice on how to put a noble last note on your holiday evening with friends. The Port  & Sherry Tasting will be 5:30-6:15pm only\, so be sure to arrive early\, with the reception continuing to 7pm with light refreshments. You'll enjoy  Gallery Artrio's current exhibit\, the "Colors of Tuscany"\, along with a great selection of special works and jewelry by the gallery artists\, too\, perfect for gift giving!
X-ALT-DESC;FMTTYPE=text/html:<span style="color:rgb(0\, 0\, 0)\; font-family:arial\,verdana\,sans-serif\; font-size:12px">Diane Slater\, Wine Manager at CCPS &amp\; exhibiting Artist at Gallery Artrio\, will share her advice on how to put a noble last note on your holiday evening with friends.&nbsp\;</span><span style="color:rgb(0\, 0\, 0)\; font-family:arial\,verdana\,sans-serif\; font-size:12px">The<strong> Port&nbsp\; &amp\; Sherry Tasting</strong> will be 5:30-6:15pm only\, so be sure to arrive early\, with the reception continuing to 7pm with light refreshments.</span><span style="color:rgb(0\, 0\, 0)\; font-family:arial\,verdana\,sans-serif\; font-size:12px">&nbsp\;You&#39\;ll enjoy&nbsp\; Gallery Artrio&#39\;s current exhibit\, t</span><span style="color:rgb(0\, 0\, 0)\; font-family:arial\,verdana\,sans-serif\; font-size:12px">he &ldquo\;Colors of Tuscany&rdquo\;\, along with a great selection of special works and jewelry by the gallery artists\, too\, perfect for gift giving!&nbsp\;</span>
LOCATION:Gallery Artrio 50 Pearl Street Hyannis\, MA
UID:e.3261.138
SEQUENCE:3
DTSTAMP:20260424T132233Z
URL:https://business.hyannis.com/events/details/elegant-endings-port-sherry-tasting-138
END:VEVENT

END:VCALENDAR
