BEGIN:VCALENDAR
VERSION:2.0
PRODID:-//ChamberMaster//Event Calendar 2.0//EN
METHOD:PUBLISH
X-PUBLISHED-TTL:P3D
REFRESH-INTERVAL:P3D
CALSCALE:GREGORIAN
BEGIN:VEVENT
DTSTART:20250814T220000Z
DTEND:20250814T230000Z
X-MICROSOFT-CDO-ALLDAYEVENT:FALSE
SUMMARY:Exploring Marine & Cultural Connections: Nantucket Sound & the Azores
DESCRIPTION:Did you know that the waters around Cape Cod and the Azores an island group in the middle of the Atlantic Ocean are connected in more ways than one?\n\n \n\nRegister for the Alliance's free educational webinar series   and join us for a fascinating look at the shared marine life and history between southeastern Massachusetts and the Azores. Our guest speaker\, Robert Rocha\, Associate Curator of Science and Research at the New Bedford Whaling Museum\, will guide us through old whaling logbooks to uncover what sailors saw on their journeys from New Bedford\, through Nantucket Sound\, and across the ocean to the Azores.\n\n \n\nYou'll learn how whales\, dolphins\, and other sea creatures link these distant places and how the people\, history\, and culture of the region are deeply connected too.\n\n\n\nAbout the Presenter: Robert Rocha\n\nMr. Rocha's responsibilities at the Museum include developing all science content for museum exhibits\, cataloging and managing the natural history collection\, and serving as liaison to several agencies and partners. In his time at the New Bedford Whaling Museum\, he has been responsible for developing and presenting science curriculum for school groups\, creating and managing the High School Apprenticeship Program\, managing and training the Museum's volunteer corps\, developing outreach programs\, developing science programs for general audiences\, and providing professional development for teachers.  \n\n \n\nHe is Executive Director of Massachusetts Marine Educators (MME)\, past President of National Marine Educators Association (NMEA)\, Chair of the Education Committee of the North Atlantic Right Whale Consortium\, and serves on the Advisory Committee for New Bedford Science Caf .\n\n \n\nMore info on the Alliance's ACONS (A Celebration of Nantucket Sound) webinar series at www.saveoursound.org/acons.
X-ALT-DESC;FMTTYPE=text/html:<span style="font-family:arial\,sans-serif">Did you know that the waters around Cape Cod and the Azores&mdash\;an island group in the middle of the Atlantic Ocean&mdash\;are connected in more ways than one?</span><br />\n&nbsp\;<br />\n<span style="font-family:arial\,sans-serif">Register for the Alliance&rsquo\;s <a href="http://www.saveoursound.org/acons"><strong>free educational webinar series</strong></a> &ndash\; and join us for a fascinating look at the shared marine life and history between southeastern Massachusetts and the Azores. Our guest speaker\,&nbsp\;<strong>Robert Rocha</strong>\, Associate Curator of Science and Research at the <strong>New Bedford Whaling Museum</strong>\, will guide us through old whaling logbooks to uncover what sailors saw on their journeys from New Bedford\, through Nantucket Sound\, and across the ocean to the Azores.</span><br />\n&nbsp\;<br />\n<span style="font-family:arial\,sans-serif">You&#39\;ll learn how whales\, dolphins\, and other sea creatures link these distant places&mdash\;and how the people\, history\, and culture of the region are deeply connected too.<br />\n<br />\n<strong><u>About the Presenter: Robert Rocha</u></strong><br />\nMr. Rocha&rsquo\;s responsibilities at the Museum include developing all science content for museum exhibits\, cataloging and managing the natural history collection\, and serving as liaison to several agencies and partners. In his time at the New Bedford Whaling Museum\, he has been responsible for developing and presenting science curriculum for school groups\, creating and managing the High School Apprenticeship Program\, managing and training the Museum&rsquo\;s volunteer corps\, developing outreach programs\, developing science programs for general audiences\, and providing professional development for teachers.&nbsp\; </span><br />\n&nbsp\;<br />\n<span style="font-family:arial\,sans-serif">He is Executive Director of Massachusetts Marine Educators (MME)\, past President of National Marine Educators Association (NMEA)\, Chair of the Education Committee of the North Atlantic Right Whale Consortium\, and serves on the Advisory Committee for New Bedford Science Caf&eacute\;.</span><br />\n&nbsp\;<br />\n<span style="font-family:arial\,sans-serif">More info on the Alliance&rsquo\;s ACONS (<em>A Celebration of Nantucket Sound</em>) webinar series at <a href="http://www.saveoursound.org/acons">www.saveoursound.org/acons</a>.</span>
LOCATION:Virtual\; on Zoom
UID:e.3261.3329
SEQUENCE:3
DTSTAMP:20260421T224109Z
URL:https://business.hyannis.com/events/details/exploring-marine-cultural-connections-nantucket-sound-the-azores-3329
END:VEVENT

END:VCALENDAR
