BEGIN:VCALENDAR
VERSION:2.0
PRODID:-//ChamberMaster//Event Calendar 2.0//EN
METHOD:PUBLISH
X-PUBLISHED-TTL:P3D
REFRESH-INTERVAL:P3D
CALSCALE:GREGORIAN
BEGIN:VEVENT
DTSTART:20251004T150000Z
DTEND:20251004T160000Z
X-MICROSOFT-CDO-ALLDAYEVENT:FALSE
SUMMARY:Fall Fest Dog Parade at the Osterville Village Library
DESCRIPTION:Join us at the Osterville Village Library on Saturday October 4th at 11am on the nose for the Osterville Fall Fest Dog Parade! We will depart at 11am sharp for a quick jaunt around the village! All four legged friends will receive treats and prizes! There's always something fun happening!
X-ALT-DESC;FMTTYPE=text/html:Join us at the Osterville Village Library on Saturday October 4th at 11am on the nose for the Osterville Fall Fest Dog Parade! We will depart at 11am sharp for a quick jaunt around the village! All four legged friends will receive treats and prizes! There&rsquo\;s always something fun happening!
LOCATION:Osterville Village Library 43 Wianno Ave Osterville\, MA
UID:e.3261.3788
SEQUENCE:3
DTSTAMP:20260421T232524Z
URL:https://business.hyannis.com/events/details/fall-fest-dog-parade-at-the-osterville-village-library-3788
END:VEVENT

END:VCALENDAR
