BEGIN:VCALENDAR
VERSION:2.0
PRODID:-//ChamberMaster//Event Calendar 2.0//EN
METHOD:PUBLISH
X-PUBLISHED-TTL:P3D
REFRESH-INTERVAL:P3D
CALSCALE:GREGORIAN
BEGIN:VEVENT
DTSTART:20251231T230000Z
DTEND:20260101T030000Z
X-MICROSOFT-CDO-ALLDAYEVENT:FALSE
SUMMARY:Family-Friendly New Year's Eve Celebration at Ryan's
DESCRIPTION:Everyone loves New Year's Eve\, but waiting for the ball to drop at midnight can be downright exhausting\, especially for kids. That's why Ryan's is offering a family-friendly New Year's Eve celebration that includes bowling\, games\, an airpark\, a countdown and a balloon drop -- all at a reasonable hour! For $16.95 per person\, guests can enjoy two hours of bowling - shoes included - plus a $10 Ryan's Card for the arcade. Non-bowling enthusiasts can opt for a gaming package that includes two hours of unlimited arcade play for $24.95 and 500 prize points (some restrictions apply). Guests in the South Yarmouth and North Conway areas can take part in the Airpark Parties being offered at those locations. For $19.95\, party-goers can enjoy two hours of unlimited bouncing in Ryan's brand new\, inflatable airparks\, plus a $10 Ryan's Card for the arcade. Highlighting the evening at all locations will be a countdown and balloon drop at 7:45 PM\, sure to put everyone in the holiday spirit. There are two time slots available\, 6-8 PM and 8-10 PM. Guests with reservations beginning at 8 are encouraged to arrive a bit early to catch the countdown and balloon drop. All of Ryan's bowling and airpark centers are participating\, including:   Ryan's Buzzards Bay\, 200 Main Street\, Buzzards Bay   Ryan's Hanover Crossing\, 1775 Washington Street\, Hanover   Ryan's Ten Pin Eatery\, 769 Iyannough Road (Cape Cod Mall)\, Hyannis   Ryan's Millis\, 1170 Main Street\, Millis   Ryan's North Conway\, 2 Common Court\, J10\, Settlers Green Village Outlet\, North Conway\, NH   Ryan's Raynham\, 115 New State Highway\, Raynham   Ryan's Yarmouth\, 1067 Route 28\, South Yarmouth   Ryan's Walnut Hill\, 1666 Diamond Hill Road\, Woonsocket\, RI
X-ALT-DESC;FMTTYPE=text/html:Everyone loves New Year&rsquo\;s Eve\, but waiting for the ball to drop at midnight can be downright exhausting\, especially for kids. That&rsquo\;s why Ryan&rsquo\;s is offering a family-friendly New Year&rsquo\;s Eve celebration that includes bowling\, games\, an airpark\, a countdown and a balloon drop -- all at a reasonable hour! For $16.95 per person\, guests can enjoy two hours of bowling - shoes included - plus a $10 Ryan&rsquo\;s Card for the arcade. Non-bowling enthusiasts can opt for a gaming package that includes two hours of unlimited arcade play for $24.95 and 500 prize points (some restrictions apply). Guests in the South Yarmouth and North Conway areas can take part in the Airpark Parties being offered at those locations. For $19.95\, party-goers can enjoy two hours of unlimited bouncing in Ryan&rsquo\;s brand new\, inflatable airparks\, plus a $10 Ryan&rsquo\;s Card for the arcade. Highlighting the evening at all locations will be a countdown and balloon drop at 7:45 PM\, sure to put everyone in the holiday spirit. There are two time slots available\, 6-8 PM and 8-10 PM. Guests with reservations beginning at 8 are encouraged to arrive a bit early to catch the countdown and balloon drop. All of Ryan&rsquo\;s bowling and airpark centers are participating\, including: &bull\; Ryan&rsquo\;s Buzzards Bay\, 200 Main Street\, Buzzards Bay &bull\; Ryan&rsquo\;s Hanover Crossing\, 1775 Washington Street\, Hanover &bull\; Ryan&rsquo\;s Ten Pin Eatery\, 769 Iyannough Road (Cape Cod Mall)\, Hyannis &bull\; Ryan&rsquo\;s Millis\, 1170 Main Street\, Millis &bull\; Ryan&rsquo\;s North Conway\, 2 Common Court\, J10\, Settlers Green Village Outlet\, North Conway\, NH &bull\; Ryan&rsquo\;s Raynham\, 115 New State Highway\, Raynham &bull\; Ryan&rsquo\;s Yarmouth\, 1067 Route 28\, South Yarmouth &bull\; Ryan&rsquo\;s Walnut Hill\, 1666 Diamond Hill Road\, Woonsocket\, RI
LOCATION:Ryan Family Amusements -- Buzzards Bay\, Hyannis and Yarmouth
UID:e.3261.3875
SEQUENCE:3
DTSTAMP:20260422T022550Z
URL:https://business.hyannis.com/events/details/family-friendly-new-year-s-eve-celebration-at-ryan-s-3875
END:VEVENT

END:VCALENDAR
