BEGIN:VCALENDAR
VERSION:2.0
PRODID:-//ChamberMaster//Event Calendar 2.0//EN
METHOD:PUBLISH
X-PUBLISHED-TTL:P3D
REFRESH-INTERVAL:P3D
CALSCALE:GREGORIAN
BEGIN:VEVENT
DTSTART:20180914T190000Z
DTEND:20180914T220000Z
X-MICROSOFT-CDO-ALLDAYEVENT:FALSE
SUMMARY:Farmers Market Meets Happy Hour
DESCRIPTION:Enjoy live music in our outdoor beer garden\, grab a pint from our beer trailer\, play some cornhole\, and shop a great selection of Cape Cod's best farmers\, makers and crafters what better way to start your weekend? Buy local\, support local farms Know where your food comes from...and your beer! Our vendors change weekly!
X-ALT-DESC;FMTTYPE=text/html:Enjoy live music in our outdoor beer garden\, grab a pint from our beer trailer\, play some cornhole\, and shop a great selection of Cape Cod&rsquo\;s best farmers\, makers and crafters&hellip\;what better way to start your weekend? Buy local\, support local farms Know where your food comes from...and your beer! Our vendors change weekly!
LOCATION:Cape Cod Beer 1336 Phinney's Lane Hyannis\, MA 02601
UID:e.3261.50
SEQUENCE:3
DTSTAMP:20260424T192922Z
URL:https://business.hyannis.com/events/details/farmers-market-meets-happy-hour-50
END:VEVENT

END:VCALENDAR
