BEGIN:VCALENDAR
VERSION:2.0
PRODID:-//ChamberMaster//Event Calendar 2.0//EN
METHOD:PUBLISH
X-PUBLISHED-TTL:P3D
REFRESH-INTERVAL:P3D
CALSCALE:GREGORIAN
BEGIN:VEVENT
DTSTART:20180915T150000Z
DTEND:20180915T200000Z
X-MICROSOFT-CDO-ALLDAYEVENT:FALSE
SUMMARY:Fashion Trucks on Tap
DESCRIPTION:It's a Fashion Truck Event here at the brewery! We'll have several mobile fashion trucks here and an outdoor outfitter  all outside in our market area (weather permitting) or inside the brewery (if it's pouring buckets.) Vendors include: Mermaids on Cape Cod Post & Grove Sass and Sparkle Mobile Boutique Bohemian Babe-Boho to Go On the Water Outfitters Stop in for a pint and some great shopping!
X-ALT-DESC;FMTTYPE=text/html:It&rsquo\;s a Fashion Truck Event here at the brewery! We&rsquo\;ll have several mobile fashion trucks here and an outdoor outfitter &hellip\;all outside in our market area (weather permitting) or inside the brewery (if it&rsquo\;s pouring buckets.) Vendors include: Mermaids on Cape Cod Post &amp\; Grove Sass and Sparkle Mobile Boutique Bohemian Babe-Boho to Go On the Water Outfitters Stop in for a pint and some great shopping!
LOCATION:Cape Cod Beer 1336 Phinney's Lane Hyannis\, MA 02601
UID:e.3261.51
SEQUENCE:3
DTSTAMP:20260424T174306Z
URL:https://business.hyannis.com/events/details/fashion-trucks-on-tap-51
END:VEVENT

END:VCALENDAR
