BEGIN:VCALENDAR
VERSION:2.0
PRODID:-//ChamberMaster//Event Calendar 2.0//EN
METHOD:PUBLISH
X-PUBLISHED-TTL:P3D
REFRESH-INTERVAL:P3D
CALSCALE:GREGORIAN
BEGIN:VEVENT
DTSTART:20250308T150000Z
DTEND:20250308T170000Z
X-MICROSOFT-CDO-ALLDAYEVENT:FALSE
SUMMARY:Fearless Flavors with Amy: Saj Bread\, Baba Ganoush\, and Labne
DESCRIPTION:Sat\, March 8\, 10am-12pm. Join me for a hands-on class where we'll explore the art of Lebanese bread-making with the Saj Voyage. We'll craft both the traditional Lebanese Flatbread and the hearty wholewheat Markouk\, and top them off with tasty za'atar and melty halloumi cheese. It's going to be a fun\, flour-filled session where we'll share laughs\, knead dough\, and enjoy the mouthwatering results. Can't wait to bake with you all! $60. To register visit www.cultural-center.org or call 508-394-7100. Cultural Center of Cape Cod\, 307 Old Main Street\, South Yarmouth.
X-ALT-DESC;FMTTYPE=text/html:Sat\, March 8\, 10am-12pm. Join me for a hands-on class where we&rsquo\;ll explore the art of Lebanese bread-making with the Saj Voyage. We&rsquo\;ll craft both the traditional Lebanese Flatbread and the hearty wholewheat Markouk\, and top them off with tasty za&rsquo\;atar and melty halloumi cheese. It&rsquo\;s going to be a fun\, flour-filled session where we&rsquo\;ll share laughs\, knead dough\, and enjoy the mouthwatering results. Can&rsquo\;t wait to bake with you all! $60. To register visit www.cultural-center.org or call 508-394-7100. Cultural Center of Cape Cod\, 307 Old Main Street\, South Yarmouth.
LOCATION:Cultural Center of Cape Cod\, 307 Old Main Street\, South Yarmouth.
UID:e.3261.3084
SEQUENCE:3
DTSTAMP:20260423T103842Z
URL:https://business.hyannis.com/events/details/fearless-flavors-with-amy-saj-bread-baba-ganoush-and-labne-3084
END:VEVENT

END:VCALENDAR
