BEGIN:VCALENDAR
VERSION:2.0
PRODID:-//ChamberMaster//Event Calendar 2.0//EN
METHOD:PUBLISH
X-PUBLISHED-TTL:P3D
REFRESH-INTERVAL:P3D
CALSCALE:GREGORIAN
BEGIN:VEVENT
DTSTART:20250711T140000Z
DTEND:20250711T160000Z
X-MICROSOFT-CDO-ALLDAYEVENT:FALSE
SUMMARY:Feel-Good Fridays: Geometric Canvas Art
DESCRIPTION:Fri\, Jul 11\, 10am-12pm. Kids aged 7-12 will have fun making their own masterpieces this summer with Feel-good Fridays Art Workshops! Create fun geometric shape paintings with Cindy LaFlash! Use painter's tape to create sharp\, colorful geometric sections and paint within them. Focus on color blocking\, blending\, and contrast. $40 Members\, $44 Not-Yet-Members. To register visit www.cultural-center.org or call 508-394-7100. Cultural Center of Cape Cod\, 307 Old Main St.\, South Yarmouth.
X-ALT-DESC;FMTTYPE=text/html:Fri\, Jul 11\, 10am-12pm. Kids aged 7-12 will have fun making their own masterpieces this summer with Feel-good Fridays Art Workshops! Create fun geometric shape paintings with Cindy LaFlash! Use painter&rsquo\;s tape to create sharp\, colorful geometric sections and paint within them. Focus on color blocking\, blending\, and contrast. $40 Members\, $44 Not-Yet-Members. To register visit www.cultural-center.org or call 508-394-7100. Cultural Center of Cape Cod\, 307 Old Main St.\, South Yarmouth.
LOCATION:Cultural Center of Cape Cod\, 307 Old Main St.\, South Yarmouth
UID:e.3261.3427
SEQUENCE:3
DTSTAMP:20260421T182832Z
URL:https://business.hyannis.com/events/details/feel-good-fridays-geometric-canvas-art-3427
END:VEVENT

END:VCALENDAR
