BEGIN:VCALENDAR
VERSION:2.0
PRODID:-//ChamberMaster//Event Calendar 2.0//EN
METHOD:PUBLISH
X-PUBLISHED-TTL:P3D
REFRESH-INTERVAL:P3D
CALSCALE:GREGORIAN
BEGIN:VEVENT
DTSTART:20180926T223000Z
DTEND:20180927T010000Z
X-MICROSOFT-CDO-ALLDAYEVENT:FALSE
SUMMARY:Figawi Gives Back!
DESCRIPTION:Join Figawi at Cape Cod Beer for some serious fun. It's more than just a glamorous ball & a sailboat race. They also have a serious mission to give back to the community. Figawi Charities\, Inc. generates nearly $200k every year and has provided over $2.2 million in support for non-profits that would otherwise go without. Join us as they honor this year's grant recipients & present them with the money generated by Figawi events throughout the year. Don't miss special guest speaker Tom Duggan. Tom Duggan (East Sandwich\, Mass.) is an International Race Officer and Umpire\, a long-time member of the US Sailing Race Management Committee\, and Chair of the World Sailing Race Management Subcommittee. Through his race officer experiences\, which span from Figawi Race Weekend to the Olympic Games\, he shares in the US Sailing blog how information has value but only if you give it away.
X-ALT-DESC;FMTTYPE=text/html:Join Figawi at Cape Cod Beer for some serious fun. It&rsquo\;s more than just a glamorous ball &amp\; a sailboat race. They also have a serious mission to give back to the community. Figawi Charities\, Inc. generates nearly $200k every year and has provided over $2.2 million in support for non-profits that would otherwise go without. Join us as they honor this year&rsquo\;s grant recipients &amp\; present them with the money generated by Figawi events throughout the year. Don&rsquo\;t miss special guest speaker Tom Duggan. Tom Duggan (East Sandwich\, Mass.) is an International Race Officer and Umpire\, a long-time member of the US Sailing Race Management Committee\, and Chair of the World Sailing Race Management Subcommittee. Through his race officer experiences\, which span from Figawi Race Weekend to the Olympic Games\, he shares in the US Sailing blog how information has value but only if you give it away.
LOCATION:Cape Cod Beer 1336 Phinney's Lane Hyannis\, MA 02601
UID:e.3261.62
SEQUENCE:3
DTSTAMP:20260424T173916Z
URL:https://business.hyannis.com/events/details/figawi-gives-back-62
END:VEVENT

END:VCALENDAR
