BEGIN:VCALENDAR
VERSION:2.0
PRODID:-//ChamberMaster//Event Calendar 2.0//EN
METHOD:PUBLISH
X-PUBLISHED-TTL:P3D
REFRESH-INTERVAL:P3D
CALSCALE:GREGORIAN
BEGIN:VEVENT
DTSTART:20181130T233000Z
DTEND:20181201T023000Z
X-MICROSOFT-CDO-ALLDAYEVENT:FALSE
SUMMARY:Fladia Strong Fundraiser
DESCRIPTION:Fladia recently received a devastating cancer diagnosis. Her family and friends have rallied around her. Join us for a night of fun and celebration in support of this amazing woman!
X-ALT-DESC;FMTTYPE=text/html:Fladia recently received a devastating cancer diagnosis. Her family and friends have rallied around her. Join us for a night of fun and celebration in support of this amazing woman!
LOCATION:Cape Cod Beer 1336 Phinney's Lane Hyannis\, MA 02601
UID:e.3261.117
SEQUENCE:3
DTSTAMP:20260424T144156Z
URL:https://business.hyannis.com/events/details/fladia-strong-fundraiser-117
END:VEVENT

END:VCALENDAR
