BEGIN:VCALENDAR
VERSION:2.0
PRODID:-//ChamberMaster//Event Calendar 2.0//EN
METHOD:PUBLISH
X-PUBLISHED-TTL:P3D
REFRESH-INTERVAL:P3D
CALSCALE:GREGORIAN
BEGIN:VEVENT
DTSTART:20190216T150000Z
DTEND:20190216T190000Z
X-MICROSOFT-CDO-ALLDAYEVENT:FALSE
SUMMARY:For the Love of Turtles Open House
DESCRIPTION:Join us for our February Open House! Explore the Discovery Center\, make a marine animal valentine\, and enjoy games and refreshments. Meet local student\, artist\, and sea turtle conservationist Marissa F and observe a special demonstration of screen printing sea turtle art on t-shirts. Tour our marine animal hospital and meet our turtle patients. Cost: $5/person\, members FREE.
X-ALT-DESC;FMTTYPE=text/html:Join us for our February Open House! Explore the Discovery Center\, make a marine animal valentine\, and enjoy games and refreshments. Meet local student\, artist\, and sea turtle conservationist Marissa F and observe a special demonstration of screen printing sea turtle art on t-shirts. Tour our marine animal hospital and meet our turtle patients. Cost: $5/person\, members FREE.
LOCATION:National Marine Life Center\, 120 Main Street\, Buzzards Bay\, MA\, 02532
UID:e.3261.174
SEQUENCE:3
DTSTAMP:20260424T102347Z
URL:https://business.hyannis.com/events/details/for-the-love-of-turtles-open-house-174
END:VEVENT

END:VCALENDAR
