BEGIN:VCALENDAR
VERSION:2.0
PRODID:-//ChamberMaster//Event Calendar 2.0//EN
METHOD:PUBLISH
X-PUBLISHED-TTL:P3D
REFRESH-INTERVAL:P3D
CALSCALE:GREGORIAN
BEGIN:VEVENT
DTSTART:20250628T160000Z
DTEND:20250628T170000Z
X-MICROSOFT-CDO-ALLDAYEVENT:FALSE
SUMMARY:FREE! Printing Greeting Cards: A Family Workshop!
DESCRIPTION:Sat\, Jun 28\, 12-1pm. This FREE print workshop for families with children aged 4-10 provides a wonderful opportunity to craft personalized greeting cards for your loved ones. You'll explore various printing techniques to create unique and heartfelt designs\, perfect for any occasion. Learn to transfer your artistic vision onto cardstock\, adding a personal touch that store-bought cards simply can't replicate\, and leave with a collection of custom-made greetings ready to bring smiles to your family's faces. Stop by our Art Barn and make a card! Cultural Center of Cape Cod- Hyannis Campus\, 250 South St.\, Hyannis.
X-ALT-DESC;FMTTYPE=text/html:Sat\, Jun 28\, 12-1pm. This FREE print workshop for families with children aged 4-10 provides a wonderful opportunity to craft personalized greeting cards for your loved ones. You&#39\;ll explore various printing techniques to create unique and heartfelt designs\, perfect for any occasion. Learn to transfer your artistic vision onto cardstock\, adding a personal touch that store-bought cards simply can&#39\;t replicate\, and leave with a collection of custom-made greetings ready to bring smiles to your family&#39\;s faces. Stop by our Art Barn and make a card! Cultural Center of Cape Cod- Hyannis Campus\, 250 South St.\, Hyannis.
LOCATION:Cultural Center of Cape Cod-Hyannis Campus\, 250 South St.\, Hyannis
UID:e.3261.3412
SEQUENCE:3
DTSTAMP:20260421T150645Z
URL:https://business.hyannis.com/events/details/free-printing-greeting-cards-a-family-workshop-3412
END:VEVENT

END:VCALENDAR
