BEGIN:VCALENDAR
VERSION:2.0
PRODID:-//ChamberMaster//Event Calendar 2.0//EN
METHOD:PUBLISH
X-PUBLISHED-TTL:P3D
REFRESH-INTERVAL:P3D
CALSCALE:GREGORIAN
BEGIN:VEVENT
DTSTART:20190316T230000Z
DTEND:20190317T030000Z
X-MICROSOFT-CDO-ALLDAYEVENT:FALSE
SUMMARY:Gaelic vs Garlic Comedy Show
DESCRIPTION:"Gaelic vs Garlic: The Funny Side of Growing up Irish vs Italian!" An all-new comedy show coming to the Cape Codder Resort\, just in time for St. Patrick's Day weekend. Cannoli vs Soda Bread? Prosciutto vs corned Beef? Red wine vs Guinness? Harmon-Marino presents a hilarious night of stand-up and audience interactive routines featuring NY Comedians Tom Briscoe\, Mark Riccadonna and hosted by Boston's Gary Marino. Acoustic rocker Johnny Mac provides the Irish tunes and straight up rock & roll. Experience a night of comedy that will make us feel like we grew up in the same house together!
X-ALT-DESC;FMTTYPE=text/html:&quot\;Gaelic vs Garlic: The Funny Side of Growing up Irish vs Italian!&rdquo\; An all-new comedy show coming to the Cape Codder Resort\, just in time for St. Patrick&rsquo\;s Day weekend. Cannoli vs Soda Bread? Prosciutto vs corned Beef? Red wine vs Guinness? Harmon-Marino presents a hilarious night of stand-up and audience interactive routines featuring NY Comedians Tom Briscoe\, Mark Riccadonna and hosted by Boston&#39\;s Gary Marino. Acoustic rocker Johnny Mac provides the Irish tunes and straight up rock &amp\; roll. Experience a night of comedy that will make us feel like we grew up in the same house together!
LOCATION:Cape Codder Resort & Spa
UID:e.3261.210
SEQUENCE:3
DTSTAMP:20260424T101909Z
URL:https://business.hyannis.com/events/details/gaelic-vs-garlic-comedy-show-210
END:VEVENT

END:VCALENDAR
