BEGIN:VCALENDAR
VERSION:2.0
PRODID:-//ChamberMaster//Event Calendar 2.0//EN
METHOD:PUBLISH
X-PUBLISHED-TTL:P3D
REFRESH-INTERVAL:P3D
CALSCALE:GREGORIAN
BEGIN:VEVENT
DTSTART;VALUE=DATE:20211126
DTEND;VALUE=DATE:20211128
TRANSP:TRANSPARENT
X-MICROSOFT-CDO-ALLDAYEVENT:TRUE
SUMMARY:Gingerbread Lane & Artist Market at the Hyannis HyArts Artist Shanties
DESCRIPTION:Gingerbread Lane & Artist Market at the Hyannis HyArts Artist Shanties.\n\nBismore Park and Harbor Overlook locations\n\nNovember 26 & 27\, Black Friday and Small Business Saturday. 10am   3pm\n\nAND Noon   5:00pm\, Saturday\, Dec 4 as part of Hyannis Main Street =Holiday Stroll\n\nCape Cod Artisan Holiday Market\; Gingerbread Lane at the Harbor Overlook artist shanties decorated as gingerbread houses with candy d cor.\n\nArtist market\, free crafts\, music and fun for all ages!\n\nFood and kid and adult beverages for sale by the OGB Express.
X-ALT-DESC;FMTTYPE=text/html:<div>&nbsp\;</div>\n\n<div>\n<p>Gingerbread Lane &amp\; Artist Market at the Hyannis HyArts Artist Shanties.<br />\nBismore Park and Harbor Overlook locations</p>\n\n<p>November 26 &amp\; 27\, Black Friday and Small Business Saturday. 10am &ndash\; 3pm<br />\nAND Noon &ndash\; 5:00pm\, Saturday\, Dec 4 as part of Hyannis Main Street =Holiday Stroll<br />\nCape Cod Artisan Holiday Market\; Gingerbread Lane at the Harbor Overlook artist shanties decorated as gingerbread houses with candy d&eacute\;cor.<br />\nArtist market\, free crafts\, music and fun for all ages!<br />\nFood and kid and adult beverages for sale by the OGB Express.</p>\n</div>\n
LOCATION:Ocean St.\, Hyannis\,Ma.
UID:e.3261.1929
SEQUENCE:3
DTSTAMP:20260424T180940Z
URL:https://business.hyannis.com/events/details/gingerbread-lane-artist-market-at-the-hyannis-hyarts-artist-shanties-11-26-2021-1929
END:VEVENT

END:VCALENDAR
