BEGIN:VCALENDAR
VERSION:2.0
PRODID:-//ChamberMaster//Event Calendar 2.0//EN
METHOD:PUBLISH
X-PUBLISHED-TTL:P3D
REFRESH-INTERVAL:P3D
CALSCALE:GREGORIAN
BEGIN:VEVENT
DTSTART:20250924T040000Z
DTEND:20250924T040000Z
X-MICROSOFT-CDO-ALLDAYEVENT:FALSE
SUMMARY:GlenPharmer Spirit Seminar & Mixology Demonstation
DESCRIPTION:Raise your Spirits! \n\nJoin us for a Seminar & Tasting\, showcasing GlenPharmer  Distillery\, a premier New England distiller of handcrafted spirits. \n\n\n\nCome Sip\, Savor & Discover!\n\nVODKA\n\n~ BEAN\, infused with Espresso Vanilla\n\n~ BOG\, infused with Cranberry\n\n~ BHUT\, infused with Ghost Pepper\n\n~ DOLI\, infused with Pineapple\n\nPlus +\n\n~ Brookdale GIN\n\n~ Reserve Spiced RUM\n\n\n\nPatrick McGinn\, Brand Ambassador\, will treat you to a Mixology demonstration\, showcasing seasonal craft cocktails to taste\, too! Be inspired to create a Fall-themed cocktail to share with friends at your next gathering!\n\n\n\n$15/person*\n\nSpace is limited so pre-registration is required.\n\nMust be 21 years old and present a legal ID\n\nRegister online today!\n\n\n\n*All registered attendees will receive a $15 store credit that can be applied towards a purchase the evening of the event
X-ALT-DESC;FMTTYPE=text/html:<span style="color:rgb(29\, 16\, 44)\; font-family:museo sans w01\,helvetica neue\,helvetica\,helvetica\,arial\,sans-serif\; font-size:14px">Raise your Spirits! </span><br />\n<span style="color:rgb(29\, 16\, 44)\; font-family:museo sans w01\,helvetica neue\,helvetica\,helvetica\,arial\,sans-serif\; font-size:14px">Join us for a Seminar &amp\; Tasting\, showcasing GlenPharmer&reg\; Distillery\, a premier New England distiller of handcrafted spirits. </span><br />\n<br />\n<span style="color:rgb(29\, 16\, 44)\; font-family:museo sans w01\,helvetica neue\,helvetica\,helvetica\,arial\,sans-serif\; font-size:14px">Come Sip\, Savor &amp\; Discover!</span><br />\n<span style="color:rgb(29\, 16\, 44)\; font-family:museo sans w01\,helvetica neue\,helvetica\,helvetica\,arial\,sans-serif\; font-size:14px">VODKA</span><br />\n<span style="color:rgb(29\, 16\, 44)\; font-family:museo sans w01\,helvetica neue\,helvetica\,helvetica\,arial\,sans-serif\; font-size:14px">~ BEAN\, infused with Espresso Vanilla</span><br />\n<span style="color:rgb(29\, 16\, 44)\; font-family:museo sans w01\,helvetica neue\,helvetica\,helvetica\,arial\,sans-serif\; font-size:14px">~ BOG\, infused with Cranberry</span><br />\n<span style="color:rgb(29\, 16\, 44)\; font-family:museo sans w01\,helvetica neue\,helvetica\,helvetica\,arial\,sans-serif\; font-size:14px">~ BHUT\, infused with Ghost Pepper</span><br />\n<span style="color:rgb(29\, 16\, 44)\; font-family:museo sans w01\,helvetica neue\,helvetica\,helvetica\,arial\,sans-serif\; font-size:14px">~ DOLI\, infused with Pineapple</span><br />\n<span style="color:rgb(29\, 16\, 44)\; font-family:museo sans w01\,helvetica neue\,helvetica\,helvetica\,arial\,sans-serif\; font-size:14px">Plus +</span><br />\n<span style="color:rgb(29\, 16\, 44)\; font-family:museo sans w01\,helvetica neue\,helvetica\,helvetica\,arial\,sans-serif\; font-size:14px">~ Brookdale GIN</span><br />\n<span style="color:rgb(29\, 16\, 44)\; font-family:museo sans w01\,helvetica neue\,helvetica\,helvetica\,arial\,sans-serif\; font-size:14px">~ Reserve Spiced RUM</span><br />\n<br />\n<span style="color:rgb(29\, 16\, 44)\; font-family:museo sans w01\,helvetica neue\,helvetica\,helvetica\,arial\,sans-serif\; font-size:14px">Patrick McGinn\, Brand Ambassador\, will treat you to a Mixology demonstration\, showcasing seasonal craft cocktails to taste\, too! Be inspired to create a Fall-themed cocktail to share with friends at your next gathering!</span><br />\n<br />\n<span style="color:rgb(29\, 16\, 44)\; font-family:museo sans w01\,helvetica neue\,helvetica\,helvetica\,arial\,sans-serif\; font-size:14px">$15/person*</span><br />\n<span style="color:rgb(29\, 16\, 44)\; font-family:museo sans w01\,helvetica neue\,helvetica\,helvetica\,arial\,sans-serif\; font-size:14px">Space is limited so pre-registration is required.</span><br />\n<span style="color:rgb(29\, 16\, 44)\; font-family:museo sans w01\,helvetica neue\,helvetica\,helvetica\,arial\,sans-serif\; font-size:14px">Must be 21 years old and present a legal ID</span><br />\n<span style="color:rgb(29\, 16\, 44)\; font-family:museo sans w01\,helvetica neue\,helvetica\,helvetica\,arial\,sans-serif\; font-size:14px">Register online today!</span><br />\n<br />\n<span style="color:rgb(29\, 16\, 44)\; font-family:museo sans w01\,helvetica neue\,helvetica\,helvetica\,arial\,sans-serif\; font-size:14px">*All registered attendees will receive a $15 store credit that can be applied towards a purchase the evening of the event</span>
LOCATION:Cape Cod Package Store Fine Wine & Spirits
UID:e.3261.3766
SEQUENCE:3
DTSTAMP:20260421T214032Z
URL:https://business.hyannis.com/events/details/glenpharmer-spirit-seminar-mixology-demonstation-3766
END:VEVENT

END:VCALENDAR
