BEGIN:VCALENDAR
VERSION:2.0
PRODID:-//ChamberMaster//Event Calendar 2.0//EN
METHOD:PUBLISH
X-PUBLISHED-TTL:P3D
REFRESH-INTERVAL:P3D
CALSCALE:GREGORIAN
BEGIN:VEVENT
DTSTART;VALUE=DATE:20190123
DTEND;VALUE=DATE:20190124
TRANSP:TRANSPARENT
X-MICROSOFT-CDO-ALLDAYEVENT:TRUE
SUMMARY:Got Sugar Blues? Kick Sugar to the Curb!
DESCRIPTION:Are you the type of person who craves sweets? Do you have low energy in the middle of the day? If so\, this workshop could be a turning point in your life. I've designed this workshop to change your relationship with sugar. You will leave understanding the causes of your sugar cravings and you'll receive practical tools for dealing with them.\n\n\n\nIt's not about deprivation. It's about freedom   the freedom to eat foods you love and have sweetness in your life without the side effects or the guilt.\n\n$10 early bird (eventbrite.com)...$15 at the door.
X-ALT-DESC;FMTTYPE=text/html:<span style="background-color:rgb(255\, 255\, 255)\; font-family:helvetica\,arial\,sans-serif\; font-size:14px">Are you the type of person who craves sweets? Do you have low energy in the middle of the day? If so\, this workshop could be a turning point in your life. I&rsquo\;ve designed this workshop to change your relationship with sugar. You will leave understanding the causes of your sugar cravings and you&rsquo\;ll receive practical tools for dealing with them.</span><br />\n<br />\n<span style="background-color:rgb(255\, 255\, 255)\; font-family:helvetica\,arial\,sans-serif\; font-size:14px">It&rsquo\;s not about deprivation. It&rsquo\;s about freedom &ndash\; the freedom to eat foods you love and have sweetness in your life without the side effects or the guilt.</span><br />\n<span style="background-color:rgb(255\, 255\, 255)\; font-family:helvetica\,arial\,sans-serif\; font-size:14px">$10 early bird (eventbrite.com)...$15 at the door.</span>
LOCATION:CapeSpace\, 100 Independence Drive\, Hyannis
UID:e.3261.149
SEQUENCE:3
DTSTAMP:20260424T114115Z
URL:https://business.hyannis.com/events/details/got-sugar-blues-kick-sugar-to-the-curb-149
END:VEVENT

END:VCALENDAR
