BEGIN:VCALENDAR
VERSION:2.0
PRODID:-//ChamberMaster//Event Calendar 2.0//EN
METHOD:PUBLISH
X-PUBLISHED-TTL:P3D
REFRESH-INTERVAL:P3D
CALSCALE:GREGORIAN
BEGIN:VEVENT
DTSTART:20190316T160000Z
DTEND:20190316T200000Z
X-MICROSOFT-CDO-ALLDAYEVENT:FALSE
SUMMARY:Green Beer Day @ Cape Cod Harley-Davidson
DESCRIPTION:Enjoy green beer with the crew @ Cape Cod Harley-Davidson in celebration of St. Patrick's Day. Chase our leprechaun around the showroom and see what is new from Harley-Davidson. Bottoms up and good luck!
X-ALT-DESC;FMTTYPE=text/html:Enjoy green beer with the crew @ Cape Cod Harley-Davidson in celebration of St. Patrick&#39\;s Day. Chase our leprechaun around the showroom and see what is new from Harley-Davidson. Bottoms up and good luck!
LOCATION:Cape Cod Harley-Davidson 750 MacArthur Blvd. Pocasset\, MA 02559
UID:e.3261.195
SEQUENCE:3
DTSTAMP:20260424T101800Z
URL:https://business.hyannis.com/events/details/green-beer-day-cape-cod-harley-davidson-195
END:VEVENT

END:VCALENDAR
