BEGIN:VCALENDAR
VERSION:2.0
PRODID:-//ChamberMaster//Event Calendar 2.0//EN
METHOD:PUBLISH
X-PUBLISHED-TTL:P3D
REFRESH-INTERVAL:P3D
CALSCALE:GREGORIAN
BEGIN:VEVENT
DTSTART:20251123T213000Z
DTEND:20251123T233000Z
X-MICROSOFT-CDO-ALLDAYEVENT:FALSE
SUMMARY:Guinness Social: A Story in Every Pint
DESCRIPTION:Join us for a GUINNESS SOCIAL featuring the stories behind St. James's Gate with Guinness Ambassador\, Mike Reardon! Our first Guinness Social will feature the history of this iconic brand whose exceptional standards for delivering the 'Perfect Pint' over 260 years\, are legendary. Featured flight: ?? Guinness Stout ?? Kilkenny Irish Cream Ale ?? Harp Lager ?? Smithwicks Irish Red Ale Drawings to step behind the bar and learn how to pour the 'Perfect Pint'! Full menu available.
X-ALT-DESC;FMTTYPE=text/html:Join us for a GUINNESS SOCIAL featuring the stories behind St. James&rsquo\;s Gate with Guinness Ambassador\, Mike Reardon! Our first Guinness Social will feature the history of this iconic brand whose exceptional standards for delivering the &lsquo\;Perfect Pint&rsquo\; over 260 years\, are legendary. Featured flight: ?? Guinness Stout ?? Kilkenny Irish Cream Ale ?? Harp Lager ?? Smithwicks Irish Red Ale Drawings to step behind the bar and learn how to pour the &lsquo\;Perfect Pint&rsquo\;! Full menu available.
LOCATION:The Auld Triangle 412 Main Street Hyannis
UID:e.3261.3853
SEQUENCE:3
DTSTAMP:20260422T010127Z
URL:https://business.hyannis.com/events/details/guinness-social-a-story-in-every-pint-3853
END:VEVENT

END:VCALENDAR
