BEGIN:VCALENDAR
VERSION:2.0
PRODID:-//ChamberMaster//Event Calendar 2.0//EN
METHOD:PUBLISH
X-PUBLISHED-TTL:P3D
REFRESH-INTERVAL:P3D
CALSCALE:GREGORIAN
BEGIN:VEVENT
DTSTART:20260323T210000Z
DTEND:20260323T223000Z
X-MICROSOFT-CDO-ALLDAYEVENT:FALSE
SUMMARY:History on Tap: Solo chasing my dream
DESCRIPTION:One woman. One boat. One lifelong dream. Through striking images and an honest\, deeply personal story\, Sigrid Greven takes you on a solo sailing journey around the world: exploring fear\, freedom\, resilience\, and what it truly means to chase a dream.
X-ALT-DESC;FMTTYPE=text/html:One woman. One boat. One lifelong dream. Through striking images and an honest\, deeply personal story\, Sigrid Greven takes you on a solo sailing journey around the world: exploring fear\, freedom\, resilience\, and what it truly means to chase a dream.
LOCATION:Cape Cod Maritime Museum 135 South Street Barnstable\, MA
UID:e.3261.3928
SEQUENCE:3
DTSTAMP:20260422T121657Z
URL:https://business.hyannis.com/events/details/history-on-tap-solo-chasing-my-dream-3928
END:VEVENT

END:VCALENDAR
