BEGIN:VCALENDAR
VERSION:2.0
PRODID:-//ChamberMaster//Event Calendar 2.0//EN
METHOD:PUBLISH
X-PUBLISHED-TTL:P3D
REFRESH-INTERVAL:P3D
CALSCALE:GREGORIAN
BEGIN:VEVENT
DTSTART;VALUE=DATE:20181206
DTEND;VALUE=DATE:20181207
TRANSP:TRANSPARENT
X-MICROSOFT-CDO-ALLDAYEVENT:TRUE
SUMMARY:Holiday Champagne & Sparkling Wine Dinner
DESCRIPTION:Celebrate the Season with a festive 5-course Champagne & Sparkling Wine Dinner.\n\nEnjoy fine cuisine prepared by Chef Rob Calderone at the Barnstable Restaurant & Tavern\, paired with  sparkling wine hand selected by Diane Slater. We suggest you call to make your reservation early\, 508-362-2355\, as traditionally this is a sold out event! Click here for updated menu & pricing.
X-ALT-DESC;FMTTYPE=text/html:<span style="color:rgb(0\, 0\, 0)\; font-family:georgia\; font-size:medium">Celebrate the Season with a festive 5-course&nbsp\;Champagne &amp\; Sparkling Wine Dinner.<br />\nEnjoy fine cuisine prepared by Chef Rob Calderone at the Barnstable Restaurant &amp\; Tavern\,&nbsp\;paired with&nbsp\; sparkling wine hand selected by Diane Slater. We suggest you call to make your reservation early\,&nbsp\;508-362-2355\, as traditionally this is a sold out event!&nbsp\;<a href="https://barnstablerestaurant.com/events/sparkling-wine-dinner/">Click here</a> for updated menu &amp\; pricing.&nbsp\;</span>
LOCATION:Barnstable Restaurant & Tavern
UID:e.3261.131
SEQUENCE:3
DTSTAMP:20260424T132135Z
URL:https://business.hyannis.com/events/details/holiday-champagne-sparkling-wine-dinner-131
END:VEVENT

END:VCALENDAR
