BEGIN:VCALENDAR
VERSION:2.0
PRODID:-//ChamberMaster//Event Calendar 2.0//EN
METHOD:PUBLISH
X-PUBLISHED-TTL:P3D
REFRESH-INTERVAL:P3D
CALSCALE:GREGORIAN
BEGIN:VEVENT
DTSTART:20181213T050000Z
DTEND:20181213T050000Z
X-MICROSOFT-CDO-ALLDAYEVENT:FALSE
SUMMARY:Bubbles & Beyond
DESCRIPTION:Take a break from the hustle and bustle to taste sparkling wines & champagne\,  perfect for Holiday entertaining and Gift-giving!  Taste Bubbles from around the world\, including an array of Sparkling Wine\, Prosecco\, Cava and grower's Champagnes! Advance registration required. Register online or Call 508-775-2065 to make your reservation. Invite a friend and make it a festive evening out!
X-ALT-DESC;FMTTYPE=text/html:Take a break from the hustle and bustle to taste sparkling wines &amp\; champagne\,&nbsp\; perfect for Holiday entertaining and Gift-giving!&nbsp\; Taste Bubbles from around the world\, including an array of Sparkling Wine\, Prosecco\, Cava and grower&#39\;s Champagnes! Advance registration required. <a href="https://conta.cc/2E8xtoo">Register online </a>or Call 508-775-2065 to make your reservation. Invite a friend and make it a festive evening out!<br />\n&nbsp\;\n<h3>&nbsp\;</h3>\n
LOCATION:Cape Cod Package Store Fine Wine & Spirits
UID:e.3261.141
SEQUENCE:3
DTSTAMP:20260424T144309Z
URL:https://business.hyannis.com/events/details/holiday-sparkling-wine-tasting-141
END:VEVENT

END:VCALENDAR
