BEGIN:VCALENDAR
VERSION:2.0
PRODID:-//ChamberMaster//Event Calendar 2.0//EN
METHOD:PUBLISH
X-PUBLISHED-TTL:P3D
REFRESH-INTERVAL:P3D
CALSCALE:GREGORIAN
BEGIN:VEVENT
DTSTART:20181115T233000Z
DTEND:20181116T010000Z
X-MICROSOFT-CDO-ALLDAYEVENT:FALSE
SUMMARY:Holiday Wine Tasting
DESCRIPTION:A perfect time to taste some wonderful wines to grace your Thanksgiving and Holiday table\, hand selected by Diane\, our Wine Manager. Be inspired & treat your family & friends to a perfect pairing! This is a stand up walk around tasting\, accompanied by cheese and crackers.
X-ALT-DESC;FMTTYPE=text/html:A perfect time to taste some wonderful wines to grace your Thanksgiving and Holiday table\, hand selected by Diane\, our Wine Manager. Be inspired &amp\; treat your family &amp\; friends to a perfect pairing! This is a stand up walk around tasting\, accompanied by cheese and crackers.
LOCATION:Cape Cod Package Store Fine Wine & Spirits
UID:e.3261.130
SEQUENCE:3
DTSTAMP:20260424T143432Z
URL:https://business.hyannis.com/events/details/holiday-wine-tasting-130
END:VEVENT

END:VCALENDAR
