BEGIN:VCALENDAR
VERSION:2.0
PRODID:-//ChamberMaster//Event Calendar 2.0//EN
METHOD:PUBLISH
X-PUBLISHED-TTL:P3D
REFRESH-INTERVAL:P3D
CALSCALE:GREGORIAN
BEGIN:VEVENT
DTSTART:20180506T130000Z
DTEND:20180506T160000Z
X-MICROSOFT-CDO-ALLDAYEVENT:FALSE
SUMMARY:HopeHealth Annual Walk for Alzheimer's
DESCRIPTION:Do you know someone battling Alzheimer's disease\, or someone caring for them? You can make a difference in their lives and others affected by the disease by joining us at 9:00 a.m. on May 6 for the HopeHealth Walk for Alzheimer's at DCR Scusset State Beach. When you walk\, you help many in our region receive essential care and support services - free of charge - provided by our experts at Hope Dementia and Alzheimer's Services. Programs include: family care planning\, caregiver education\, support groups\, respite grants\, and more. For more information visit: hopehealthco.org/walk
X-ALT-DESC;FMTTYPE=text/html:Do you know someone battling Alzheimer&#39\;s disease\, or someone caring for them? You can make a difference in their lives and others affected by the disease by joining us at 9:00 a.m. on May 6 for the HopeHealth Walk for Alzheimer&#39\;s at DCR Scusset State Beach. When you walk\, you help many in our region receive essential care and support services - free of charge - provided by our experts at Hope Dementia and Alzheimer&#39\;s Services. Programs include: family care planning\, caregiver education\, support groups\, respite grants\, and more. For more information visit: hopehealthco.org/walk
LOCATION:DCR Scusset State Beach\, Sandwich MA. Address: 20 Scusset Beach Rd\, Sagamore Beach\, MA 02562.
UID:e.3261.7
SEQUENCE:3
DTSTAMP:20260425T002820Z
URL:https://business.hyannis.com/events/details/hopehealth-annual-walk-for-alzheimer-s-7
END:VEVENT

END:VCALENDAR
