BEGIN:VCALENDAR
VERSION:2.0
PRODID:-//ChamberMaster//Event Calendar 2.0//EN
METHOD:PUBLISH
X-PUBLISHED-TTL:P3D
REFRESH-INTERVAL:P3D
CALSCALE:GREGORIAN
BEGIN:VEVENT
DTSTART:20180617T020000Z
DTEND:20180617T200000Z
X-MICROSOFT-CDO-ALLDAYEVENT:FALSE
SUMMARY:Hyannis Arts and Craft Festival at the Car Show
DESCRIPTION:The Hyannis Arts and Craft Festival at the 24th Annual Fathers Day Car Show will be held on the Village Green\, on Main Street\, in downtown Hyannis on June 16 & 17\, 2018. Over 85 Booths of American made arts and crafts\; including Fine Art Photography\, Nautical Home Decor\, Shell Craft Sterling Silver Jewelry\, Pottery\, Soy Candles\, Wearable Art\, Personal Care Products\, Magnetic Jewelry\, Floral Design\, Garden D cor\, Wood Burning\, Table Runners\, Scarves\, Toys\, Sea Glass Creations\, Decorative Painting\, Folk Art\, Fiction Works\, Vintage Chic\, Wildlife Photography\, Dolls\, Pillow Quilts\, Sports Team Apparel\, Fused Glass\, Alpaca Items\, Doll Clothes\, Crystal Jewelry\, Instruments\, Wall Silhouettes\, Metal Sculpture\, Gyotaku Prints\, Lanterns\, Switch-plate Covers\, Ornaments\, Henna and much more. Enjoy specialty foods such as Kettle Corn\, Cranberry Jellies\, Herbal Dips\, BBQ sauce\, Lemonade\, Gourmet Baked Nuts and more. Bring a blanket and enjoy live musical entertainment on the bandstand each day. The Greater Hyannis Chamber of Commerce will host the 23rd Annual Father's Day car show on Main Street on Sunday! For more info on the Car Show contact the Hyannis Chamber. The Hyannis Arts & Craft Festival at the Car Show is free admission and held rain or shine. Friendly Pets on a Leash are Welcome. Ample parking in the town lots in beautiful downtown Hyannis. Festival Hours: Saturday 10am to 5pm\, Sunday 10am to 4pm. Directions: From Route 6 take Exit 6 onto 132 to downtown Hyannis. For more information visit us at www.castleberryfairs.com Sponsored by the Hyannis Area Chamber of Commerce.
X-ALT-DESC;FMTTYPE=text/html:The Hyannis Arts and Craft Festival at the 24th Annual Fathers Day Car Show will be held on the Village Green\, on Main Street\, in downtown Hyannis on June 16 &amp\; 17\, 2018. Over 85 Booths of American made arts and crafts\; including Fine Art Photography\, Nautical Home Decor\, Shell Craft Sterling Silver Jewelry\, Pottery\, Soy Candles\, Wearable Art\, Personal Care Products\, Magnetic Jewelry\, Floral Design\, Garden D&eacute\;cor\, Wood Burning\, Table Runners\, Scarves\, Toys\, Sea Glass Creations\, Decorative Painting\, Folk Art\, Fiction Works\, Vintage Chic\, Wildlife Photography\, Dolls\, Pillow Quilts\, Sports Team Apparel\, Fused Glass\, Alpaca Items\, Doll Clothes\, Crystal Jewelry\, Instruments\, Wall Silhouettes\, Metal Sculpture\, Gyotaku Prints\, Lanterns\, Switch-plate Covers\, Ornaments\, Henna and much more. Enjoy specialty foods such as Kettle Corn\, Cranberry Jellies\, Herbal Dips\, BBQ sauce\, Lemonade\, Gourmet Baked Nuts and more. Bring a blanket and enjoy live musical entertainment on the bandstand each day. The Greater Hyannis Chamber of Commerce will host the 23rd Annual Father&#39\;s Day car show on Main Street on Sunday! For more info on the Car Show contact the Hyannis Chamber. The Hyannis Arts &amp\; Craft Festival at the Car Show is free admission and held rain or shine. Friendly Pets on a Leash are Welcome. Ample parking in the town lots in beautiful downtown Hyannis. Festival Hours: Saturday 10am to 5pm\, Sunday 10am to 4pm. Directions: From Route 6 take Exit 6 onto 132 to downtown Hyannis. For more information visit us at www.castleberryfairs.com Sponsored by the Hyannis Area Chamber of Commerce.
LOCATION:Village Green\, on Main Street\, in downtown Hyannis
UID:e.3261.17
SEQUENCE:3
DTSTAMP:20260424T224059Z
URL:https://business.hyannis.com/events/details/hyannis-arts-and-craft-festival-at-the-car-show-17
END:VEVENT

END:VCALENDAR
