BEGIN:VCALENDAR
VERSION:2.0
PRODID:-//ChamberMaster//Event Calendar 2.0//EN
METHOD:PUBLISH
X-PUBLISHED-TTL:P3D
REFRESH-INTERVAL:P3D
CALSCALE:GREGORIAN
BEGIN:VEVENT
DTSTART:20251118T223000Z
DTEND:20251119T000000Z
X-MICROSOFT-CDO-ALLDAYEVENT:FALSE
SUMMARY:Hyannis Chamber Member Listening Session
DESCRIPTION:You're Invited- Greater Hyannis Chamber of Commerce Member Listening Session.  Your Voice Matters--Let's Talk!\n\n\n\nThe Greater Hyannis Chamber of Commerce is here for you.  We understand that our members are navigating challenges\, opportunities and big changes in our business community.  We want to hear directly from you--your concerns\, your ideas and what's most important to you and your business.\n\n\n\nAt the same time\, we'll share updates on the Chamber's role\, the resources available to you and how your membership can work harder for your business.\n\n\n\nThis not just just a meeting--it's a conversation.  Your feedback will help guide our priorities\, strengthen our programs and ensure that the Chamber continues to be a strong advocate and resource for our business community.\n\n\n\nPlease join us for an open\, constructive and positive discussion about the future of business in Greater Hyannis.  Together\, we can keep our business community strong\, connected and thriving.\n\n\n\nRSVP today--we want your voice in the room.\n\n\n\nThis meeting is for Greater Hyannis Chamber of Commerce Members Only.
X-ALT-DESC;FMTTYPE=text/html:<span style="font-size:16px\;"><span style="font-family:verdana\;"><strong>You&#39\;re Invited- Greater Hyannis Chamber of Commerce Member Listening Session.&nbsp\; Your Voice Matters--Let&#39\;s Talk!</strong><br />\n<br />\nThe Greater Hyannis Chamber of Commerce is here for you.&nbsp\; We understand that our members are navigating challenges\, opportunities and big changes in our business community.&nbsp\; We want to hear directly from you--your concerns\, your ideas and what&#39\;s most important to you and your business.<br />\n<br />\nAt the same time\, we&#39\;ll share updates on the Chamber&#39\;s role\, the resources available to you and how your membership can work harder for your business.<br />\n<br />\nThis not just just a meeting--it&#39\;s a conversation.&nbsp\; Your feedback will help guide our priorities\, strengthen our programs and ensure that the Chamber continues to be a strong advocate and resource for our business community.<br />\n<br />\nPlease join us for an open\, constructive and positive discussion about the future of business in Greater Hyannis.&nbsp\; Together\, we can keep our business community strong\, connected and thriving.<br />\n<br />\nRSVP today--we want your voice in the room.</span></span><br />\n<br />\n<strong>This meeting is for Greater Hyannis Chamber of Commerce Members Only.&nbsp\;&nbsp\;</strong><br />\n<br />\n&nbsp\;
LOCATION:Comfort Inn--Hyannis 259 Main Street Hyannis\, MA 02601
UID:e.3261.3849
SEQUENCE:3
DTSTAMP:20260422T010015Z
URL:https://business.hyannis.com/events/details/hyannis-chamber-member-listening-session-3849
END:VEVENT

END:VCALENDAR
