BEGIN:VCALENDAR
VERSION:2.0
PRODID:-//ChamberMaster//Event Calendar 2.0//EN
METHOD:PUBLISH
X-PUBLISHED-TTL:P3D
REFRESH-INTERVAL:P3D
CALSCALE:GREGORIAN
BEGIN:VEVENT
DTSTART:20250630T150000Z
DTEND:20250707T000000Z
X-MICROSOFT-CDO-ALLDAYEVENT:FALSE
SUMMARY:Hyannis HyARTS Artist Shanties week of June 30 - July 6 * OPEN May - Oct!
DESCRIPTION:Hyannis HyARTS ARTIST SHANTIES 12 seaside shanties! Always open from 11:00am. Hyannis Harbor * two locations *Ocean Street\, Hyannis Cape Cod artists and artisans work and sell their handmade\, hand designed or hand crafted items. Artists and artwork change weekly throughout the season. A must stop along the Walkway to the Sea to or from Hyannis Main Street and Hyannis Harbor. PARK AND WALK: It's a short\, easy walk to Hyannis Main Street and Hyannis Harbor. Directions to Harbor Overlook HyArts Shanties Directions to Bismore Park HyArts Shanties 2025 HYANNIS HYARTS ARTIST SHANTY HOURS: Always OPEN FROM 11:00am. Artists frequently open early and stay late! MAY AND JUNE weekends: Friday through Sunday\, May 23 - June 22 \, 2025: 11:00 am   at least 4:00 pm & open Monday\, Memorial Day JUNE   AUGUST\, seven days a week: Seven days a week: June 23 - September 1\, 2025\, and open Monday\, Labor Day 11:00am at least 6:00pm\, June & September 11:00am at least 8:00 pm\, July & August SEPTEMBER\, five days a week: Thursday through Monday\, September 4 - September 29\, 2025: 11:00am   6:00pm OCTOBER weekends: Friday through Sunday\, October 3 - October 13\, 2025: 11:00am at least 3:00pm NOVEMBER - FEBRUARY:Smile Spot memory making photo opportunity! Take 'sweet' photos with you at the "Gingerbread Houses" at the Harbor Overlook.
X-ALT-DESC;FMTTYPE=text/html:Hyannis HyARTS ARTIST SHANTIES 12 seaside shanties! Always open from 11:00am. Hyannis Harbor * two locations *Ocean Street\, Hyannis Cape Cod artists and artisans work and sell their handmade\, hand designed or hand crafted items. Artists and artwork change weekly throughout the season. A must stop along the Walkway to the Sea to or from Hyannis Main Street and Hyannis Harbor. PARK AND WALK: It&rsquo\;s a short\, easy walk to Hyannis Main Street and Hyannis Harbor. Directions to Harbor Overlook HyArts Shanties Directions to Bismore Park HyArts Shanties 2025 HYANNIS HYARTS ARTIST SHANTY HOURS: Always OPEN FROM 11:00am. Artists frequently open early and stay late! MAY AND JUNE weekends: Friday through Sunday\, May 23 - June 22 \, 2025: 11:00 am &ndash\; at least 4:00 pm &amp\; open Monday\, Memorial Day JUNE &ndash\; AUGUST\, seven days a week: Seven days a week: June 23 - September 1\, 2025\, and open Monday\, Labor Day 11:00am at least 6:00pm\, June &amp\; September 11:00am at least 8:00 pm\, July &amp\; August SEPTEMBER\, five days a week: Thursday through Monday\, September 4 - September 29\, 2025: 11:00am &ndash\; 6:00pm OCTOBER weekends: Friday through Sunday\, October 3 - October 13\, 2025: 11:00am at least 3:00pm NOVEMBER - FEBRUARY:Smile Spot memory making photo opportunity! Take &lsquo\;sweet&rsquo\; photos with you at the &ldquo\;Gingerbread Houses&rdquo\; at the Harbor Overlook.
LOCATION:51 Ocean St\, Hyannis\, MA\, 02601
UID:e.3261.3192
SEQUENCE:3
DTSTAMP:20260423T085719Z
URL:https://business.hyannis.com/events/details/hyannis-hyarts-artist-shanties-week-of-june-30-july-6-open-may-oct-3192
END:VEVENT

END:VCALENDAR
