BEGIN:VCALENDAR
VERSION:2.0
PRODID:-//ChamberMaster//Event Calendar 2.0//EN
METHOD:PUBLISH
X-PUBLISHED-TTL:P3D
REFRESH-INTERVAL:P3D
CALSCALE:GREGORIAN
BEGIN:VEVENT
DTSTART:20250625T213000Z
DTEND:20250625T230000Z
X-MICROSOFT-CDO-ALLDAYEVENT:FALSE
SUMMARY:Hydrangea Shell Art Decoupage Workshop
DESCRIPTION:Looking for a Fun Class? Join us for our Hydrangea Shell Art Decoupage Workshop this Wednesday at CCAC! - Create your own one-of-a-kind keepsake Hydrangea Shell Art. -Step-by-step guidance- no experience needed. -All materials included. Tickets can be purchased on eventbrite: https://www.eventbrite.com/e/hydrangea-shell-art-decoupage-tickets-1395314957599?aff=oddtdtcreator
X-ALT-DESC;FMTTYPE=text/html:Looking for a Fun Class? Join us for our Hydrangea Shell Art Decoupage Workshop this Wednesday at CCAC! - Create your own one-of-a-kind keepsake Hydrangea Shell Art. -Step-by-step guidance- no experience needed. -All materials included. Tickets can be purchased on eventbrite: https://www.eventbrite.com/e/hydrangea-shell-art-decoupage-tickets-1395314957599?aff=oddtdtcreator
LOCATION:Cape Cod Art Center 3480 Route 6A\, Barnstable\, MA 02630
UID:e.3261.3432
SEQUENCE:3
DTSTAMP:20260421T150251Z
URL:https://business.hyannis.com/events/details/hydrangea-shell-art-decoupage-workshop-3432
END:VEVENT

END:VCALENDAR
