BEGIN:VCALENDAR
VERSION:2.0
PRODID:-//ChamberMaster//Event Calendar 2.0//EN
METHOD:PUBLISH
X-PUBLISHED-TTL:P3D
REFRESH-INTERVAL:P3D
CALSCALE:GREGORIAN
BEGIN:VEVENT
DTSTART:20180808T190000Z
DTEND:20180808T200000Z
X-MICROSOFT-CDO-ALLDAYEVENT:FALSE
SUMMARY:Ice Cream Social at CapeSpace
DESCRIPTION:Who wants ice cream?  We all do!  Join us for an ice cream social featuring four luscious flavors of locally hand crafted ice cream from our good friends at Kandy Korner of Main Street\, Hyannis.  Beat the heat\, mingle with other CapeSpace community members\, maybe even make a cool contact!
X-ALT-DESC;FMTTYPE=text/html:<p style="box-sizing: border-box\; margin: 0px 0px 20px\; color: rgb(48\, 48\, 48)\; font-family: &quot\;Open Sans&quot\;\, Georgia\, serif\; font-size: 17px\; background-color: rgb(255\, 255\, 255)\;">Who wants ice cream?&nbsp\; We all do!&nbsp\; Join us for an ice cream social featuring four luscious flavors of locally hand crafted ice cream from our good friends at&nbsp\;<em style="box-sizing: border-box\;"><span style="box-sizing: border-box\; font-weight: 700\;"><span style="box-sizing: border-box\; color: rgb(0\, 0\, 255)\;"><a href="http://www.kandykorner.com/" rel="noopener" style="box-sizing: border-box\; text-decoration-line: none\; color: rgb(0\, 81\, 114)\; transition-property: color\, background-color\, border-color\; transition-duration: 0.2s\; transition-timing-function: linear\;" target="_blank">Kandy Korner</a></span></span></em>&nbsp\;of Main Street\, Hyannis.&nbsp\; Beat the heat\, mingle with other CapeSpace community members\, maybe even make a cool contact!</p>\n\n<p style="box-sizing: border-box\; margin: 0px 0px 20px\; color: rgb(48\, 48\, 48)\; font-family: &quot\;Open Sans&quot\;\, Georgia\, serif\; font-size: 17px\; background-color: rgb(255\, 255\, 255)\;">&nbsp\;</p>\n\n<p style="box-sizing: border-box\; margin: 0px 0px 20px\; color: rgb(48\, 48\, 48)\; font-family: &quot\;Open Sans&quot\;\, Georgia\, serif\; font-size: 17px\; background-color: rgb(255\, 255\, 255)\;">&nbsp\;</p>\n\n<p style="box-sizing: border-box\; margin: 0px 0px 20px\; color: rgb(48\, 48\, 48)\; font-family: &quot\;Open Sans&quot\;\, Georgia\, serif\; font-size: 17px\; background-color: rgb(255\, 255\, 255)\;">&nbsp\;</p>\n
LOCATION:CapeSpace\, 100 Independence Drive\, Hyannis
UID:e.3261.38
SEQUENCE:3
DTSTAMP:20260424T192640Z
URL:https://business.hyannis.com/events/details/ice-cream-social-at-capespace-38
END:VEVENT

END:VCALENDAR
