BEGIN:VCALENDAR
VERSION:2.0
PRODID:-//ChamberMaster//Event Calendar 2.0//EN
METHOD:PUBLISH
X-PUBLISHED-TTL:P3D
REFRESH-INTERVAL:P3D
CALSCALE:GREGORIAN
BEGIN:VEVENT
DTSTART;VALUE=DATE:20181011
DTEND;VALUE=DATE:20181012
TRANSP:TRANSPARENT
X-MICROSOFT-CDO-ALLDAYEVENT:TRUE
SUMMARY:Italian Wine Seminar
DESCRIPTION:Italy in the Fall! Cape Cod Package Store is hosting\,  Micheal Carabellese from The Winebow Group is presenting!  Sip delicious white and warm reds\, perfect for Fall pairings! The seminar will feature wines from the Librandi vineyards in  Via Tirone\, Cir  Marina located in the Eastern Calabria region\, the Southern toe of the boot. As well as \, renowned wines from Tua Rita located in Suvereto\, in the heart of the Tuscan metalliferous hills. \n\nFee $10 - sit down seminar. Space is limited. Reservations required. You can register Online or call the store at 508-775-2065.
X-ALT-DESC;FMTTYPE=text/html:<span style="color:rgb(85\, 85\, 85)\; font-family:georgia\,palatino\; font-size:small">Italy in the Fall! Cape Cod Package Store is hosting\,&nbsp\; Micheal Carabellese from The Winebow Gr</span><span style="color:rgb(85\, 85\, 85)\; font-family:georgia\,palatino\; font-size:small">oup is presenting!&nbsp\;&nbsp\;</span><span style="color:rgb(85\, 85\, 85)\; font-family:georgia\,palatino\; font-size:small">Sip delicious white and warm reds\, perfect for Fall pairings! The seminar will feature wines from the&nbsp\;</span><a href="https://www.librandi.it/en"><span style="color:rgb(85\, 85\, 85)\; font-family:open sans\,sans-serif\; font-size:14px">Librandi</span></a><span style="color:rgb(85\, 85\, 85)\; font-family:georgia\,palatino\; font-size:small">&nbsp\;vineyards in&nbsp\;&nbsp\;Via Tirone\, Cir&ograve\; Marina located in the Eastern Calabria region\, the Southern toe of the boot. As well as \, renowned wines from<a href="https://tuarita.it/?lang=en">&nbsp\;</a></span><a href="https://tuarita.it/?lang=en"><span style="color:rgb(85\, 85\, 85)\; font-family:open sans\,sans-serif\; font-size:14px">Tua Rita</span></a><span style="color:rgb(85\, 85\, 85)\; font-family:georgia\,palatino\; font-size:small">&nbsp\;located in Suvereto\, in the heart of the Tuscan metalliferous hills.&nbsp\;</span><br />\n<span style="color:rgb(85\, 85\, 85)\; font-family:georgia\,palatino\; font-size:small">Fee $10 - sit down seminar. Space is limited. Reservations required. You can <a href="https://conta.cc/2OzbFUA">register Online</a> or call the store at 508-775-2065.</span><br />\n&nbsp\;\n<table border="0" cellpadding="0" cellspacing="0" style="color:rgb(0\, 0\, 0)\; font-family:arial\,verdana\,sans-serif\; font-size:12px\; width:100%">\n	<tbody>\n		<tr>\n		</tr>\n	</tbody>\n</table>\n
LOCATION:Cape Cod Package Store Fine Wine & Spirits
UID:e.3261.80
SEQUENCE:3
DTSTAMP:20260424T162621Z
URL:https://business.hyannis.com/events/details/italian-wine-seminar-80
END:VEVENT

END:VCALENDAR
