BEGIN:VCALENDAR
VERSION:2.0
PRODID:-//ChamberMaster//Event Calendar 2.0//EN
METHOD:PUBLISH
X-PUBLISHED-TTL:P3D
REFRESH-INTERVAL:P3D
CALSCALE:GREGORIAN
BEGIN:VEVENT
DTSTART:20250308T130000Z
DTEND:20250308T190000Z
X-MICROSOFT-CDO-ALLDAYEVENT:FALSE
SUMMARY:Jaxtimer Landscaping\, LLC Job Fair
DESCRIPTION:We're hiring!! Come on down to 48 Rosary Lane in Hyannis for our 2025 job fair. This is a great opportunity to meet face to face with our team and tour the facilities. Food and beverages will also be provided. You can call our office at (508) 778-6466 with any questions\, or check out our careers page to see all of the positions we are currently hiring for. We look forward to meeting you!
X-ALT-DESC;FMTTYPE=text/html:We&#39\;re hiring!! Come on down to 48 Rosary Lane in Hyannis for our 2025 job fair. This is a great opportunity to meet face to face with our team and tour the facilities. Food and beverages will also be provided. You can call our office at (508) 778-6466 with any questions\, or check out our careers page to see all of the positions we are currently hiring for. We look forward to meeting you!
LOCATION:48 Rosary Lane\, Hyannis\, MA 02601
UID:e.3261.3184
SEQUENCE:3
DTSTAMP:20260423T102745Z
URL:https://business.hyannis.com/events/details/jaxtimer-landscaping-llc-job-fair-03-08-2025-3184
END:VEVENT

END:VCALENDAR
