BEGIN:VCALENDAR
VERSION:2.0
PRODID:-//ChamberMaster//Event Calendar 2.0//EN
METHOD:PUBLISH
X-PUBLISHED-TTL:P3D
REFRESH-INTERVAL:P3D
CALSCALE:GREGORIAN
BEGIN:VEVENT
DTSTART:20220804T230000Z
DTEND:20220805T010000Z
X-MICROSOFT-CDO-ALLDAYEVENT:FALSE
SUMMARY:Jazzy Music Stroll
DESCRIPTION:Jazzy Music Stroll
X-ALT-DESC;FMTTYPE=text/html:Jazzy Music Stroll
LOCATION:Main Street\, every Thursday Jul & Aug
UID:e.3261.2300
SEQUENCE:3
DTSTAMP:20260425T140431Z
URL:https://business.hyannis.com/events/details/jazzy-music-stroll-2300
END:VEVENT

END:VCALENDAR
