BEGIN:VCALENDAR
VERSION:2.0
PRODID:-//ChamberMaster//Event Calendar 2.0//EN
METHOD:PUBLISH
X-PUBLISHED-TTL:P3D
REFRESH-INTERVAL:P3D
CALSCALE:GREGORIAN
BEGIN:VEVENT
DTSTART:20250624T213000Z
DTEND:20250624T233000Z
X-MICROSOFT-CDO-ALLDAYEVENT:FALSE
SUMMARY:Junk Journaling for Joy with Cindy LaFlash
DESCRIPTION:Tuesdays\, Ongoing\, 530-730pm\, starting Jun 24. Add some crafting JOY to your week! Forget rules and perfection -- this ongoing every-Tuesday-evening drop-in class is all about making messy\, magical pages that make your heart smile. Join artist Cindy LaFlash for a laid-back\, feel-good workshop where we'll dive into the joyful chaos of junk journaling: think pretty paper scraps\, vintage book pages\, stickers\, fabric bits\, magazine cutouts\, and whatever else we can glue down to delight our inner child. Cindy brings a treasure trove of supplies\, endless prompts\, and a whole lot of inspiration to get your creativity flowing. You'll leave each session with pages full of color\, texture\, and meaning and maybe a few new crafty besties. No experience needed\, just a desire to play. Come make something beautiful just because it makes you happy. Everything is provided. Feel free to bring stuff from your own stash. Bring your own beverage if you choose\, too! $20\, $100 6-pack. To register visit www.cultural-center.org or call 508-394-7100. Cultural Center of Cape Cod\, 307 Old Main St.\, South Yarmouth.
X-ALT-DESC;FMTTYPE=text/html:Tuesdays\, Ongoing\, 530-730pm\, starting Jun 24. Add some crafting JOY to your week! Forget rules and perfection -- this ongoing every-Tuesday-evening drop-in class is all about making messy\, magical pages that make your heart smile. Join artist Cindy LaFlash for a laid-back\, feel-good workshop where we&rsquo\;ll dive into the joyful chaos of junk journaling: think pretty paper scraps\, vintage book pages\, stickers\, fabric bits\, magazine cutouts\, and whatever else we can glue down to delight our inner child. Cindy brings a treasure trove of supplies\, endless prompts\, and a whole lot of inspiration to get your creativity flowing. You&rsquo\;ll leave each session with pages full of color\, texture\, and meaning&mdash\;and maybe a few new crafty besties. No experience needed\, just a desire to play. Come make something beautiful just because it makes you happy. Everything is provided. Feel free to bring stuff from your own stash. Bring your own beverage if you choose\, too! $20\, $100 6-pack. To register visit www.cultural-center.org or call 508-394-7100. Cultural Center of Cape Cod\, 307 Old Main St.\, South Yarmouth.
LOCATION:Cultural Center of Cape Cod
UID:e.3261.3406
SEQUENCE:3
DTSTAMP:20260421T163942Z
URL:https://business.hyannis.com/events/details/junk-journaling-for-joy-with-cindy-laflash-3406
END:VEVENT

END:VCALENDAR
